{"text_format":"1","workbook":"xlsx","n_sheets":11,"sheets":["Start","Rot x","Rot x+1i","Rot x+2i","Rot x+3i","Rot x+4i","Rot x+5i","Rot x+6i","Rot x+7i","Rot x+8i","Rot x+9i"],"not_rendered":{"charts":0,"images":0,"macros":1,"external_links":0,"defined_names":1,"comments":0,"pivot_tables":0},"unopened":[],"bounds":{"document_bytes":16777216,"sheet_cells":100000,"rows_first":2000,"rows_last":500,"rows_between":2000,"halvings":0,"cell_chars":16384,"cell_head_chars":4096},"cells_cut":0,"cells_raw":0,"read":"whole","date_system":"1900"}

{"sheet":"Start","index":0,"n_rows":39,"n_cols":8,"rows_kept":39,"cut":false,"hidden":false,"merged":[[38,2,38,5],[3,2,6,7],[13,2,26,7],[30,5,31,6],[35,5,36,6],[31,2,31,4],[36,2,36,4],[30,7,36,7],[8,2,11,7]]}
[]
[null,"RGB-Farbtafeln (parametrisiert)"]
[]
[null,"Beschreibung:","Mit Hilfe dieser parametrisierten Farbtafeln können Sie beliebige RGB (Rot-Grün-Blau)-Kombinationen in beliebigen Abstufungen erzeugen und auf DIN A4 (Hochkant) ausdrucken.\nDie Rot-Werte variieren von Blatt zu Blatt, die Grün-Werte von Kolonne zu Kolonne und die Blau-Werte von Zeile zu Zeile."]
[]
[]
[]
[]
[null,"Zweck:","Meist differieren theoretische und tatsächliche bzw. am Bildschirm angezeigte und ausgedruckte Farben. \nMit Hilfe der erzeugten Farbtafeln können Sie die gedruckte (!) Farbe der gewünschten Zielfarbe annähern. "]
[]
[]
[]
[]
[null,"Bedienung:","Definieren Sie den Variationsbereich, indem Sie für Rot, Grün und Blau jeweils den gewünschten Startwert und den gewünschten Endwert angeben. Das jeweilige Inkrement (Schrittweite der Erhöhung) wird aus der Differenz ermittelt (9 Schritte). Beginnen Sie mit den Startwerten 0,0,0 und den Endwerten 255,255,255. Erstellen Sie unbedingt einen Farbdruck auf dem Zieldrucker!!! Vergleichen Sie Ihr Muster mit der gedruckten Version: \n\n1.) Suchen Sie Ihre Musterfarbe auf den Farbtafeln \"Rot x\" bis \"Rot x+9i\". Farbtafeln, die Ihr Muster nicht enthalten, fallen heraus. Ermitteln Sie so Minimum und Maximum des Rot-Wertes.\n2.) Suchen Sie Ihre Musterfarbe auf den verbleibenden Farbtafeln in allen Kolonnen. Ermitteln Sie so analog Minimum und Maximum für den Grün-Wert. \n3.) Verfahren Sie analog für den Blau-Wert.\n\nVerfeinern Sie nun den Variationsbereich mit den gefundenen Minimum- und Maximumwerten schrittweise. Hinweis: RGB-Werte variieren im Bereich zwischen 0 und 255!"]
[]
[]
[]
[]
[]
[]
[]
[]
[]
[]
[]
[]
[]
[]
[null,null,"Rot","Grün","Blau"]
[]
[null,"Startwerte:",0,0,0,"(entspricht Blatt \"Rot x\" links oben)",null,"Hinweis: Die Farben werden bei jeder Änderung von Start- oder Endwerten aktualisiert!"]
[null,"ergibt Startfarbe:"]
[]
[null,"ergibt Inkremente:",{"$f":"(C36-C31)/9","v":28.333333333333332},{"$f":"(D36-D31)/9","v":28.333333333333332},{"$f":"(E36-E31)/9","v":28.333333333333332}]
[]
[null,"Endwerte:",255,255,255,"(entspricht Blatt \"Rot x+9i\" rechts unten)"]
[null,"ergibt Endfarbe:"]
[]
[null,"Urheber/Copyright:","Universität Tübingen, Wiwi-IT, Sven Bauer, 2017",null,null,null,"Version:","2.0"]

{"sheet":"Rot x","index":1,"n_rows":29,"n_cols":19,"rows_kept":29,"cut":false,"hidden":false,"merged":[]}
[]
["Rot","Grün","Blau",null,{"$f":"$A$2","v":"Rot"},{"$f":"$B$2","v":"Grün"},{"$f":"$C$2","v":"Blau"},null,{"$f":"$A$2","v":"Rot"},{"$f":"$B$2","v":"Grün"},{"$f":"$C$2","v":"Blau"},null,{"$f":"$A$2","v":"Rot"},{"$f":"$B$2","v":"Grün"},{"$f":"$C$2","v":"Blau"},null,{"$f":"$A$2","v":"Rot"},{"$f":"$B$2","v":"Grün"},{"$f":"$C$2","v":"Blau"}]
[{"$f":"Start!$C$31+0*Start!$C$34","v":0},{"$f":"Start!$D$31+0*Start!$D$34","v":0},{"$f":"Start!$E$31","v":0},null,{"$f":"$A$3","v":0},{"$f":"Start!$D$31+1*Start!$D$34","v":28.333333333333332},{"$f":"$C$3","v":0},null,{"$f":"$A$3","v":0},{"$f":"Start!$D$31+2*Start!$D$34","v":56.666666666666664},{"$f":"$C$3","v":0},null,{"$f":"$A$3","v":0},{"$f":"Start!$D$31+3*Start!$D$34","v":85},{"$f":"$C$3","v":0},null,{"$f":"$A$3","v":0},{"$f":"Start!$D$31+4*Start!$D$34","v":113.33333333333333},{"$f":"$C$3","v":0}]
[]
[{"$f":"A$3","v":0},{"$f":"B$3","v":0},{"$f":"C$3+0*Start!$E$34","v":0},null,{"$f":"E$3","v":0},{"$f":"F$3","v":28.333333333333332},{"$f":"G$3+0*Start!$E$34","v":0},null,{"$f":"I$3","v":0},{"$f":"J$3","v":56.666666666666664},{"$f":"K$3+0*Start!$E$34","v":0},null,{"$f":"M$3","v":0},{"$f":"N$3","v":85},{"$f":"O$3+0*Start!$E$34","v":0},null,{"$f":"Q$3","v":0},{"$f":"R$3","v":113.33333333333333},{"$f":"S$3+0*Start!$E$34","v":0}]
[{"$f":"A$3","v":0},0,{"$f":"C$3+1*Start!$E$34","v":28.333333333333332},null,{"$f":"E$3","v":0},28.333333333333332,{"$f":"G$3+1*Start!$E$34","v":28.333333333333332},null,{"$f":"I$3","v":0},56.666666666666664,{"$f":"K$3+1*Start!$E$34","v":28.333333333333332},null,{"$f":"M$3","v":0},85,{"$f":"O$3+1*Start!$E$34","v":28.333333333333332},null,{"$f":"Q$3","v":0},113.33333333333333,{"$f":"S$3+1*Start!$E$34","v":28.333333333333332}]
[0,0,{"$f":"C$3+2*Start!$E$34","v":56.666666666666664},null,0,28.333333333333332,{"$f":"G$3+2*Start!$E$34","v":56.666666666666664},null,0,56.666666666666664,{"$f":"K$3+2*Start!$E$34","v":56.666666666666664},null,0,85,{"$f":"O$3+2*Start!$E$34","v":56.666666666666664},null,0,113.33333333333333,{"$f":"S$3+2*Start!$E$34","v":56.666666666666664}]
[0,0,{"$f":"C$3+3*Start!$E$34","v":85},null,0,28.333333333333332,{"$f":"G$3+3*Start!$E$34","v":85},null,0,56.666666666666664,{"$f":"K$3+3*Start!$E$34","v":85},null,0,85,{"$f":"O$3+3*Start!$E$34","v":85},null,0,113.33333333333333,{"$f":"S$3+3*Start!$E$34","v":85}]
[0,0,{"$f":"C$3+4*Start!$E$34","v":113.33333333333333},null,0,28.333333333333332,{"$f":"G$3+4*Start!$E$34","v":113.33333333333333},null,0,56.666666666666664,{"$f":"K$3+4*Start!$E$34","v":113.33333333333333},null,0,85,{"$f":"O$3+4*Start!$E$34","v":113.33333333333333},null,0,113.33333333333333,{"$f":"S$3+4*Start!$E$34","v":113.33333333333333}]
[0,0,{"$f":"C$3+5*Start!$E$34","v":141.66666666666666},null,0,28.333333333333332,{"$f":"G$3+5*Start!$E$34","v":141.66666666666666},null,0,56.666666666666664,{"$f":"K$3+5*Start!$E$34","v":141.66666666666666},null,0,85,{"$f":"O$3+5*Start!$E$34","v":141.66666666666666},null,0,113.33333333333333,{"$f":"S$3+5*Start!$E$34","v":141.66666666666666}]
[0,0,{"$f":"C$3+6*Start!$E$34","v":170},null,0,28.333333333333332,{"$f":"G$3+6*Start!$E$34","v":170},null,0,56.666666666666664,{"$f":"K$3+6*Start!$E$34","v":170},null,0,85,{"$f":"O$3+6*Start!$E$34","v":170},null,0,113.33333333333333,{"$f":"S$3+6*Start!$E$34","v":170}]
[0,0,{"$f":"C$3+7*Start!$E$34","v":198.33333333333331},null,0,28.333333333333332,{"$f":"G$3+7*Start!$E$34","v":198.33333333333331},null,0,56.666666666666664,{"$f":"K$3+7*Start!$E$34","v":198.33333333333331},null,0,85,{"$f":"O$3+7*Start!$E$34","v":198.33333333333331},null,0,113.33333333333333,{"$f":"S$3+7*Start!$E$34","v":198.33333333333331}]
[0,0,{"$f":"C$3+8*Start!$E$34","v":226.66666666666666},null,0,28.333333333333332,{"$f":"G$3+8*Start!$E$34","v":226.66666666666666},null,0,56.666666666666664,{"$f":"K$3+8*Start!$E$34","v":226.66666666666666},null,0,85,{"$f":"O$3+8*Start!$E$34","v":226.66666666666666},null,0,113.33333333333333,{"$f":"S$3+8*Start!$E$34","v":226.66666666666666}]
[0,0,{"$f":"C$3+9*Start!$E$34","v":255},null,0,28.333333333333332,{"$f":"G$3+9*Start!$E$34","v":255},null,0,56.666666666666664,{"$f":"K$3+9*Start!$E$34","v":255},null,0,85,{"$f":"O$3+9*Start!$E$34","v":255},null,0,113.33333333333333,{"$f":"S$3+9*Start!$E$34","v":255}]
[]
[]
[{"$f":"$A$2","v":"Rot"},{"$f":"$B$2","v":"Grün"},{"$f":"$C$2","v":"Blau"},null,{"$f":"$A$2","v":"Rot"},{"$f":"$B$2","v":"Grün"},{"$f":"$C$2","v":"Blau"},null,{"$f":"$A$2","v":"Rot"},{"$f":"$B$2","v":"Grün"},{"$f":"$C$2","v":"Blau"},null,{"$f":"$A$2","v":"Rot"},{"$f":"$B$2","v":"Grün"},{"$f":"$C$2","v":"Blau"},null,{"$f":"$A$2","v":"Rot"},{"$f":"$B$2","v":"Grün"},{"$f":"$C$2","v":"Blau"}]
[{"$f":"$A$3","v":0},{"$f":"Start!$D$31+5*Start!$D$34","v":141.66666666666666},{"$f":"$C$3","v":0},null,{"$f":"$A$3","v":0},{"$f":"Start!$D$31+6*Start!$D$34","v":170},{"$f":"$C$3","v":0},null,{"$f":"$A$3","v":0},{"$f":"Start!$D$31+7*Start!$D$34","v":198.33333333333331},{"$f":"$C$3","v":0},null,{"$f":"$A$3","v":0},{"$f":"Start!$D$31+8*Start!$D$34","v":226.66666666666666},{"$f":"$C$3","v":0},null,{"$f":"$A$3","v":0},{"$f":"Start!$D$31+9*Start!$D$34","v":255},{"$f":"$C$3","v":0}]
[]
[{"$f":"A$18","v":0},{"$f":"B$18","v":141.66666666666666},{"$f":"C$3+0*Start!$E$34","v":0},null,{"$f":"E$18","v":0},{"$f":"F$18","v":170},{"$f":"G$3+0*Start!$E$34","v":0},null,{"$f":"I$18","v":0},{"$f":"J$18","v":198.33333333333331},{"$f":"K$3+0*Start!$E$34","v":0},null,{"$f":"M$18","v":0},{"$f":"N$18","v":226.66666666666666},{"$f":"O$3+0*Start!$E$34","v":0},null,{"$f":"Q$18","v":0},{"$f":"R$18","v":255},{"$f":"S$3+0*Start!$E$34","v":0}]
[{"$f":"A$18","v":0},141.66666666666666,{"$f":"C$3+1*Start!$E$34","v":28.333333333333332},null,{"$f":"E$18","v":0},170,{"$f":"G$3+1*Start!$E$34","v":28.333333333333332},null,{"$f":"I$18","v":0},198.33333333333331,{"$f":"K$3+1*Start!$E$34","v":28.333333333333332},null,{"$f":"M$18","v":0},226.66666666666666,{"$f":"O$3+1*Start!$E$34","v":28.333333333333332},null,{"$f":"Q$18","v":0},255,{"$f":"S$3+1*Start!$E$34","v":28.333333333333332}]
[0,141.66666666666666,{"$f":"C$3+2*Start!$E$34","v":56.666666666666664},null,0,170,{"$f":"G$3+2*Start!$E$34","v":56.666666666666664},null,0,198.33333333333331,{"$f":"K$3+2*Start!$E$34","v":56.666666666666664},null,0,226.66666666666666,{"$f":"O$3+2*Start!$E$34","v":56.666666666666664},null,0,255,{"$f":"S$3+2*Start!$E$34","v":56.666666666666664}]
[0,141.66666666666666,{"$f":"C$3+3*Start!$E$34","v":85},null,0,170,{"$f":"G$3+3*Start!$E$34","v":85},null,0,198.33333333333331,{"$f":"K$3+3*Start!$E$34","v":85},null,0,226.66666666666666,{"$f":"O$3+3*Start!$E$34","v":85},null,0,255,{"$f":"S$3+3*Start!$E$34","v":85}]
[0,141.66666666666666,{"$f":"C$3+4*Start!$E$34","v":113.33333333333333},null,0,170,{"$f":"G$3+4*Start!$E$34","v":113.33333333333333},null,0,198.33333333333331,{"$f":"K$3+4*Start!$E$34","v":113.33333333333333},null,0,226.66666666666666,{"$f":"O$3+4*Start!$E$34","v":113.33333333333333},null,0,255,{"$f":"S$3+4*Start!$E$34","v":113.33333333333333}]
[0,141.66666666666666,{"$f":"C$3+5*Start!$E$34","v":141.66666666666666},null,0,170,{"$f":"G$3+5*Start!$E$34","v":141.66666666666666},null,0,198.33333333333331,{"$f":"K$3+5*Start!$E$34","v":141.66666666666666},null,0,226.66666666666666,{"$f":"O$3+5*Start!$E$34","v":141.66666666666666},null,0,255,{"$f":"S$3+5*Start!$E$34","v":141.66666666666666}]
[0,141.66666666666666,{"$f":"C$3+6*Start!$E$34","v":170},null,0,170,{"$f":"G$3+6*Start!$E$34","v":170},null,0,198.33333333333331,{"$f":"K$3+6*Start!$E$34","v":170},null,0,226.66666666666666,{"$f":"O$3+6*Start!$E$34","v":170},null,0,255,{"$f":"S$3+6*Start!$E$34","v":170}]
[0,141.66666666666666,{"$f":"C$3+7*Start!$E$34","v":198.33333333333331},null,0,170,{"$f":"G$3+7*Start!$E$34","v":198.33333333333331},null,0,198.33333333333331,{"$f":"K$3+7*Start!$E$34","v":198.33333333333331},null,0,226.66666666666666,{"$f":"O$3+7*Start!$E$34","v":198.33333333333331},null,0,255,{"$f":"S$3+7*Start!$E$34","v":198.33333333333331}]
[0,141.66666666666666,{"$f":"C$3+8*Start!$E$34","v":226.66666666666666},null,0,170,{"$f":"G$3+8*Start!$E$34","v":226.66666666666666},null,0,198.33333333333331,{"$f":"K$3+8*Start!$E$34","v":226.66666666666666},null,0,226.66666666666666,{"$f":"O$3+8*Start!$E$34","v":226.66666666666666},null,0,255,{"$f":"S$3+8*Start!$E$34","v":226.66666666666666}]
[0,141.66666666666666,{"$f":"C$3+9*Start!$E$34","v":255},null,0,170,{"$f":"G$3+9*Start!$E$34","v":255},null,0,198.33333333333331,{"$f":"K$3+9*Start!$E$34","v":255},null,0,226.66666666666666,{"$f":"O$3+9*Start!$E$34","v":255},null,0,255,{"$f":"S$3+9*Start!$E$34","v":255}]

{"sheet":"Rot x+1i","index":2,"n_rows":29,"n_cols":19,"rows_kept":29,"cut":false,"hidden":false,"merged":[]}
[]
[{"$f":"'Rot x'!A2","v":"Rot"},{"$f":"'Rot x'!B2","v":"Grün"},{"$f":"'Rot x'!C2","v":"Blau"},null,{"$f":"$A$2","v":"Rot"},{"$f":"$B$2","v":"Grün"},{"$f":"$C$2","v":"Blau"},null,{"$f":"$A$2","v":"Rot"},{"$f":"$B$2","v":"Grün"},{"$f":"$C$2","v":"Blau"},null,{"$f":"$A$2","v":"Rot"},{"$f":"$B$2","v":"Grün"},{"$f":"$C$2","v":"Blau"},null,{"$f":"$A$2","v":"Rot"},{"$f":"$B$2","v":"Grün"},{"$f":"$C$2","v":"Blau"}]
[{"$f":"Start!$C$31+1*Start!$C$34","v":28.333333333333332},{"$f":"Start!$D$31+0*Start!$D$34","v":0},{"$f":"Start!$E$31","v":0},null,{"$f":"$A$3","v":28.333333333333332},{"$f":"Start!$D$31+1*Start!$D$34","v":28.333333333333332},{"$f":"$C$3","v":0},null,{"$f":"$A$3","v":28.333333333333332},{"$f":"Start!$D$31+2*Start!$D$34","v":56.666666666666664},{"$f":"$C$3","v":0},null,{"$f":"$A$3","v":28.333333333333332},{"$f":"Start!$D$31+3*Start!$D$34","v":85},{"$f":"$C$3","v":0},null,{"$f":"$A$3","v":28.333333333333332},{"$f":"Start!$D$31+4*Start!$D$34","v":113.33333333333333},{"$f":"$C$3","v":0}]
[]
[{"$f":"A$3","v":28.333333333333332},{"$f":"B$3","v":0},{"$f":"C$3+0*Start!$E$34","v":0},null,{"$f":"E$3","v":28.333333333333332},{"$f":"F$3","v":28.333333333333332},{"$f":"G$3+0*Start!$E$34","v":0},null,{"$f":"I$3","v":28.333333333333332},{"$f":"J$3","v":56.666666666666664},{"$f":"K$3+0*Start!$E$34","v":0},null,{"$f":"M$3","v":28.333333333333332},{"$f":"N$3","v":85},{"$f":"O$3+0*Start!$E$34","v":0},null,{"$f":"Q$3","v":28.333333333333332},{"$f":"R$3","v":113.33333333333333},{"$f":"S$3+0*Start!$E$34","v":0}]
[{"$f":"A$3","v":28.333333333333332},0,{"$f":"C$3+1*Start!$E$34","v":28.333333333333332},null,{"$f":"E$3","v":28.333333333333332},28.333333333333332,{"$f":"G$3+1*Start!$E$34","v":28.333333333333332},null,{"$f":"I$3","v":28.333333333333332},56.666666666666664,{"$f":"K$3+1*Start!$E$34","v":28.333333333333332},null,{"$f":"M$3","v":28.333333333333332},85,{"$f":"O$3+1*Start!$E$34","v":28.333333333333332},null,{"$f":"Q$3","v":28.333333333333332},113.33333333333333,{"$f":"S$3+1*Start!$E$34","v":28.333333333333332}]
[28.333333333333332,0,{"$f":"C$3+2*Start!$E$34","v":56.666666666666664},null,28.333333333333332,28.333333333333332,{"$f":"G$3+2*Start!$E$34","v":56.666666666666664},null,28.333333333333332,56.666666666666664,{"$f":"K$3+2*Start!$E$34","v":56.666666666666664},null,28.333333333333332,85,{"$f":"O$3+2*Start!$E$34","v":56.666666666666664},null,28.333333333333332,113.33333333333333,{"$f":"S$3+2*Start!$E$34","v":56.666666666666664}]
[28.333333333333332,0,{"$f":"C$3+3*Start!$E$34","v":85},null,28.333333333333332,28.333333333333332,{"$f":"G$3+3*Start!$E$34","v":85},null,28.333333333333332,56.666666666666664,{"$f":"K$3+3*Start!$E$34","v":85},null,28.333333333333332,85,{"$f":"O$3+3*Start!$E$34","v":85},null,28.333333333333332,113.33333333333333,{"$f":"S$3+3*Start!$E$34","v":85}]
[28.333333333333332,0,{"$f":"C$3+4*Start!$E$34","v":113.33333333333333},null,28.333333333333332,28.333333333333332,{"$f":"G$3+4*Start!$E$34","v":113.33333333333333},null,28.333333333333332,56.666666666666664,{"$f":"K$3+4*Start!$E$34","v":113.33333333333333},null,28.333333333333332,85,{"$f":"O$3+4*Start!$E$34","v":113.33333333333333},null,28.333333333333332,113.33333333333333,{"$f":"S$3+4*Start!$E$34","v":113.33333333333333}]
[28.333333333333332,0,{"$f":"C$3+5*Start!$E$34","v":141.66666666666666},null,28.333333333333332,28.333333333333332,{"$f":"G$3+5*Start!$E$34","v":141.66666666666666},null,28.333333333333332,56.666666666666664,{"$f":"K$3+5*Start!$E$34","v":141.66666666666666},null,28.333333333333332,85,{"$f":"O$3+5*Start!$E$34","v":141.66666666666666},null,28.333333333333332,113.33333333333333,{"$f":"S$3+5*Start!$E$34","v":141.66666666666666}]
[28.333333333333332,0,{"$f":"C$3+6*Start!$E$34","v":170},null,28.333333333333332,28.333333333333332,{"$f":"G$3+6*Start!$E$34","v":170},null,28.333333333333332,56.666666666666664,{"$f":"K$3+6*Start!$E$34","v":170},null,28.333333333333332,85,{"$f":"O$3+6*Start!$E$34","v":170},null,28.333333333333332,113.33333333333333,{"$f":"S$3+6*Start!$E$34","v":170}]
[28.333333333333332,0,{"$f":"C$3+7*Start!$E$34","v":198.33333333333331},null,28.333333333333332,28.333333333333332,{"$f":"G$3+7*Start!$E$34","v":198.33333333333331},null,28.333333333333332,56.666666666666664,{"$f":"K$3+7*Start!$E$34","v":198.33333333333331},null,28.333333333333332,85,{"$f":"O$3+7*Start!$E$34","v":198.33333333333331},null,28.333333333333332,113.33333333333333,{"$f":"S$3+7*Start!$E$34","v":198.33333333333331}]
[28.333333333333332,0,{"$f":"C$3+8*Start!$E$34","v":226.66666666666666},null,28.333333333333332,28.333333333333332,{"$f":"G$3+8*Start!$E$34","v":226.66666666666666},null,28.333333333333332,56.666666666666664,{"$f":"K$3+8*Start!$E$34","v":226.66666666666666},null,28.333333333333332,85,{"$f":"O$3+8*Start!$E$34","v":226.66666666666666},null,28.333333333333332,113.33333333333333,{"$f":"S$3+8*Start!$E$34","v":226.66666666666666}]
[28.333333333333332,0,{"$f":"C$3+9*Start!$E$34","v":255},null,28.333333333333332,28.333333333333332,{"$f":"G$3+9*Start!$E$34","v":255},null,28.333333333333332,56.666666666666664,{"$f":"K$3+9*Start!$E$34","v":255},null,28.333333333333332,85,{"$f":"O$3+9*Start!$E$34","v":255},null,28.333333333333332,113.33333333333333,{"$f":"S$3+9*Start!$E$34","v":255}]
[]
[]
[{"$f":"$A$2","v":"Rot"},{"$f":"$B$2","v":"Grün"},{"$f":"$C$2","v":"Blau"},null,{"$f":"$A$2","v":"Rot"},{"$f":"$B$2","v":"Grün"},{"$f":"$C$2","v":"Blau"},null,{"$f":"$A$2","v":"Rot"},{"$f":"$B$2","v":"Grün"},{"$f":"$C$2","v":"Blau"},null,{"$f":"$A$2","v":"Rot"},{"$f":"$B$2","v":"Grün"},{"$f":"$C$2","v":"Blau"},null,{"$f":"$A$2","v":"Rot"},{"$f":"$B$2","v":"Grün"},{"$f":"$C$2","v":"Blau"}]
[{"$f":"$A$3","v":28.333333333333332},{"$f":"Start!$D$31+5*Start!$D$34","v":141.66666666666666},{"$f":"$C$3","v":0},null,{"$f":"$A$3","v":28.333333333333332},{"$f":"Start!$D$31+6*Start!$D$34","v":170},{"$f":"$C$3","v":0},null,{"$f":"$A$3","v":28.333333333333332},{"$f":"Start!$D$31+7*Start!$D$34","v":198.33333333333331},{"$f":"$C$3","v":0},null,{"$f":"$A$3","v":28.333333333333332},{"$f":"Start!$D$31+8*Start!$D$34","v":226.66666666666666},{"$f":"$C$3","v":0},null,{"$f":"$A$3","v":28.333333333333332},{"$f":"Start!$D$31+9*Start!$D$34","v":255},{"$f":"$C$3","v":0}]
[]
[{"$f":"A$18","v":28.333333333333332},{"$f":"B$18","v":141.66666666666666},{"$f":"C$3+0*Start!$E$34","v":0},null,{"$f":"E$18","v":28.333333333333332},{"$f":"F$18","v":170},{"$f":"G$3+0*Start!$E$34","v":0},null,{"$f":"I$18","v":28.333333333333332},{"$f":"J$18","v":198.33333333333331},{"$f":"K$3+0*Start!$E$34","v":0},null,{"$f":"M$18","v":28.333333333333332},{"$f":"N$18","v":226.66666666666666},{"$f":"O$3+0*Start!$E$34","v":0},null,{"$f":"Q$18","v":28.333333333333332},{"$f":"R$18","v":255},{"$f":"S$3+0*Start!$E$34","v":0}]
[{"$f":"A$18","v":28.333333333333332},141.66666666666666,{"$f":"C$3+1*Start!$E$34","v":28.333333333333332},null,{"$f":"E$18","v":28.333333333333332},170,{"$f":"G$3+1*Start!$E$34","v":28.333333333333332},null,{"$f":"I$18","v":28.333333333333332},198.33333333333331,{"$f":"K$3+1*Start!$E$34","v":28.333333333333332},null,{"$f":"M$18","v":28.333333333333332},226.66666666666666,{"$f":"O$3+1*Start!$E$34","v":28.333333333333332},null,{"$f":"Q$18","v":28.333333333333332},255,{"$f":"S$3+1*Start!$E$34","v":28.333333333333332}]
[28.333333333333332,141.66666666666666,{"$f":"C$3+2*Start!$E$34","v":56.666666666666664},null,28.333333333333332,170,{"$f":"G$3+2*Start!$E$34","v":56.666666666666664},null,28.333333333333332,198.33333333333331,{"$f":"K$3+2*Start!$E$34","v":56.666666666666664},null,28.333333333333332,226.66666666666666,{"$f":"O$3+2*Start!$E$34","v":56.666666666666664},null,28.333333333333332,255,{"$f":"S$3+2*Start!$E$34","v":56.666666666666664}]
[28.333333333333332,141.66666666666666,{"$f":"C$3+3*Start!$E$34","v":85},null,28.333333333333332,170,{"$f":"G$3+3*Start!$E$34","v":85},null,28.333333333333332,198.33333333333331,{"$f":"K$3+3*Start!$E$34","v":85},null,28.333333333333332,226.66666666666666,{"$f":"O$3+3*Start!$E$34","v":85},null,28.333333333333332,255,{"$f":"S$3+3*Start!$E$34","v":85}]
[28.333333333333332,141.66666666666666,{"$f":"C$3+4*Start!$E$34","v":113.33333333333333},null,28.333333333333332,170,{"$f":"G$3+4*Start!$E$34","v":113.33333333333333},null,28.333333333333332,198.33333333333331,{"$f":"K$3+4*Start!$E$34","v":113.33333333333333},null,28.333333333333332,226.66666666666666,{"$f":"O$3+4*Start!$E$34","v":113.33333333333333},null,28.333333333333332,255,{"$f":"S$3+4*Start!$E$34","v":113.33333333333333}]
[28.333333333333332,141.66666666666666,{"$f":"C$3+5*Start!$E$34","v":141.66666666666666},null,28.333333333333332,170,{"$f":"G$3+5*Start!$E$34","v":141.66666666666666},null,28.333333333333332,198.33333333333331,{"$f":"K$3+5*Start!$E$34","v":141.66666666666666},null,28.333333333333332,226.66666666666666,{"$f":"O$3+5*Start!$E$34","v":141.66666666666666},null,28.333333333333332,255,{"$f":"S$3+5*Start!$E$34","v":141.66666666666666}]
[28.333333333333332,141.66666666666666,{"$f":"C$3+6*Start!$E$34","v":170},null,28.333333333333332,170,{"$f":"G$3+6*Start!$E$34","v":170},null,28.333333333333332,198.33333333333331,{"$f":"K$3+6*Start!$E$34","v":170},null,28.333333333333332,226.66666666666666,{"$f":"O$3+6*Start!$E$34","v":170},null,28.333333333333332,255,{"$f":"S$3+6*Start!$E$34","v":170}]
[28.333333333333332,141.66666666666666,{"$f":"C$3+7*Start!$E$34","v":198.33333333333331},null,28.333333333333332,170,{"$f":"G$3+7*Start!$E$34","v":198.33333333333331},null,28.333333333333332,198.33333333333331,{"$f":"K$3+7*Start!$E$34","v":198.33333333333331},null,28.333333333333332,226.66666666666666,{"$f":"O$3+7*Start!$E$34","v":198.33333333333331},null,28.333333333333332,255,{"$f":"S$3+7*Start!$E$34","v":198.33333333333331}]
[28.333333333333332,141.66666666666666,{"$f":"C$3+8*Start!$E$34","v":226.66666666666666},null,28.333333333333332,170,{"$f":"G$3+8*Start!$E$34","v":226.66666666666666},null,28.333333333333332,198.33333333333331,{"$f":"K$3+8*Start!$E$34","v":226.66666666666666},null,28.333333333333332,226.66666666666666,{"$f":"O$3+8*Start!$E$34","v":226.66666666666666},null,28.333333333333332,255,{"$f":"S$3+8*Start!$E$34","v":226.66666666666666}]
[28.333333333333332,141.66666666666666,{"$f":"C$3+9*Start!$E$34","v":255},null,28.333333333333332,170,{"$f":"G$3+9*Start!$E$34","v":255},null,28.333333333333332,198.33333333333331,{"$f":"K$3+9*Start!$E$34","v":255},null,28.333333333333332,226.66666666666666,{"$f":"O$3+9*Start!$E$34","v":255},null,28.333333333333332,255,{"$f":"S$3+9*Start!$E$34","v":255}]

{"sheet":"Rot x+2i","index":3,"n_rows":29,"n_cols":19,"rows_kept":29,"cut":false,"hidden":false,"merged":[]}
[]
[{"$f":"'Rot x'!A2","v":"Rot"},{"$f":"'Rot x'!B2","v":"Grün"},{"$f":"'Rot x'!C2","v":"Blau"},null,{"$f":"$A$2","v":"Rot"},{"$f":"$B$2","v":"Grün"},{"$f":"$C$2","v":"Blau"},null,{"$f":"$A$2","v":"Rot"},{"$f":"$B$2","v":"Grün"},{"$f":"$C$2","v":"Blau"},null,{"$f":"$A$2","v":"Rot"},{"$f":"$B$2","v":"Grün"},{"$f":"$C$2","v":"Blau"},null,{"$f":"$A$2","v":"Rot"},{"$f":"$B$2","v":"Grün"},{"$f":"$C$2","v":"Blau"}]
[{"$f":"Start!$C$31+2*Start!$C$34","v":56.666666666666664},{"$f":"Start!$D$31+0*Start!$D$34","v":0},{"$f":"Start!$E$31","v":0},null,{"$f":"$A$3","v":56.666666666666664},{"$f":"Start!$D$31+1*Start!$D$34","v":28.333333333333332},{"$f":"$C$3","v":0},null,{"$f":"$A$3","v":56.666666666666664},{"$f":"Start!$D$31+2*Start!$D$34","v":56.666666666666664},{"$f":"$C$3","v":0},null,{"$f":"$A$3","v":56.666666666666664},{"$f":"Start!$D$31+3*Start!$D$34","v":85},{"$f":"$C$3","v":0},null,{"$f":"$A$3","v":56.666666666666664},{"$f":"Start!$D$31+4*Start!$D$34","v":113.33333333333333},{"$f":"$C$3","v":0}]
[]
[{"$f":"A$3","v":56.666666666666664},{"$f":"B$3","v":0},{"$f":"C$3+0*Start!$E$34","v":0},null,{"$f":"E$3","v":56.666666666666664},{"$f":"F$3","v":28.333333333333332},{"$f":"G$3+0*Start!$E$34","v":0},null,{"$f":"I$3","v":56.666666666666664},{"$f":"J$3","v":56.666666666666664},{"$f":"K$3+0*Start!$E$34","v":0},null,{"$f":"M$3","v":56.666666666666664},{"$f":"N$3","v":85},{"$f":"O$3+0*Start!$E$34","v":0},null,{"$f":"Q$3","v":56.666666666666664},{"$f":"R$3","v":113.33333333333333},{"$f":"S$3+0*Start!$E$34","v":0}]
[{"$f":"A$3","v":56.666666666666664},0,{"$f":"C$3+1*Start!$E$34","v":28.333333333333332},null,{"$f":"E$3","v":56.666666666666664},28.333333333333332,{"$f":"G$3+1*Start!$E$34","v":28.333333333333332},null,{"$f":"I$3","v":56.666666666666664},56.666666666666664,{"$f":"K$3+1*Start!$E$34","v":28.333333333333332},null,{"$f":"M$3","v":56.666666666666664},85,{"$f":"O$3+1*Start!$E$34","v":28.333333333333332},null,{"$f":"Q$3","v":56.666666666666664},113.33333333333333,{"$f":"S$3+1*Start!$E$34","v":28.333333333333332}]
[56.666666666666664,0,{"$f":"C$3+2*Start!$E$34","v":56.666666666666664},null,56.666666666666664,28.333333333333332,{"$f":"G$3+2*Start!$E$34","v":56.666666666666664},null,56.666666666666664,56.666666666666664,{"$f":"K$3+2*Start!$E$34","v":56.666666666666664},null,56.666666666666664,85,{"$f":"O$3+2*Start!$E$34","v":56.666666666666664},null,56.666666666666664,113.33333333333333,{"$f":"S$3+2*Start!$E$34","v":56.666666666666664}]
[56.666666666666664,0,{"$f":"C$3+3*Start!$E$34","v":85},null,56.666666666666664,28.333333333333332,{"$f":"G$3+3*Start!$E$34","v":85},null,56.666666666666664,56.666666666666664,{"$f":"K$3+3*Start!$E$34","v":85},null,56.666666666666664,85,{"$f":"O$3+3*Start!$E$34","v":85},null,56.666666666666664,113.33333333333333,{"$f":"S$3+3*Start!$E$34","v":85}]
[56.666666666666664,0,{"$f":"C$3+4*Start!$E$34","v":113.33333333333333},null,56.666666666666664,28.333333333333332,{"$f":"G$3+4*Start!$E$34","v":113.33333333333333},null,56.666666666666664,56.666666666666664,{"$f":"K$3+4*Start!$E$34","v":113.33333333333333},null,56.666666666666664,85,{"$f":"O$3+4*Start!$E$34","v":113.33333333333333},null,56.666666666666664,113.33333333333333,{"$f":"S$3+4*Start!$E$34","v":113.33333333333333}]
[56.666666666666664,0,{"$f":"C$3+5*Start!$E$34","v":141.66666666666666},null,56.666666666666664,28.333333333333332,{"$f":"G$3+5*Start!$E$34","v":141.66666666666666},null,56.666666666666664,56.666666666666664,{"$f":"K$3+5*Start!$E$34","v":141.66666666666666},null,56.666666666666664,85,{"$f":"O$3+5*Start!$E$34","v":141.66666666666666},null,56.666666666666664,113.33333333333333,{"$f":"S$3+5*Start!$E$34","v":141.66666666666666}]
[56.666666666666664,0,{"$f":"C$3+6*Start!$E$34","v":170},null,56.666666666666664,28.333333333333332,{"$f":"G$3+6*Start!$E$34","v":170},null,56.666666666666664,56.666666666666664,{"$f":"K$3+6*Start!$E$34","v":170},null,56.666666666666664,85,{"$f":"O$3+6*Start!$E$34","v":170},null,56.666666666666664,113.33333333333333,{"$f":"S$3+6*Start!$E$34","v":170}]
[56.666666666666664,0,{"$f":"C$3+7*Start!$E$34","v":198.33333333333331},null,56.666666666666664,28.333333333333332,{"$f":"G$3+7*Start!$E$34","v":198.33333333333331},null,56.666666666666664,56.666666666666664,{"$f":"K$3+7*Start!$E$34","v":198.33333333333331},null,56.666666666666664,85,{"$f":"O$3+7*Start!$E$34","v":198.33333333333331},null,56.666666666666664,113.33333333333333,{"$f":"S$3+7*Start!$E$34","v":198.33333333333331}]
[56.666666666666664,0,{"$f":"C$3+8*Start!$E$34","v":226.66666666666666},null,56.666666666666664,28.333333333333332,{"$f":"G$3+8*Start!$E$34","v":226.66666666666666},null,56.666666666666664,56.666666666666664,{"$f":"K$3+8*Start!$E$34","v":226.66666666666666},null,56.666666666666664,85,{"$f":"O$3+8*Start!$E$34","v":226.66666666666666},null,56.666666666666664,113.33333333333333,{"$f":"S$3+8*Start!$E$34","v":226.66666666666666}]
[56.666666666666664,0,{"$f":"C$3+9*Start!$E$34","v":255},null,56.666666666666664,28.333333333333332,{"$f":"G$3+9*Start!$E$34","v":255},null,56.666666666666664,56.666666666666664,{"$f":"K$3+9*Start!$E$34","v":255},null,56.666666666666664,85,{"$f":"O$3+9*Start!$E$34","v":255},null,56.666666666666664,113.33333333333333,{"$f":"S$3+9*Start!$E$34","v":255}]
[]
[]
[{"$f":"$A$2","v":"Rot"},{"$f":"$B$2","v":"Grün"},{"$f":"$C$2","v":"Blau"},null,{"$f":"$A$2","v":"Rot"},{"$f":"$B$2","v":"Grün"},{"$f":"$C$2","v":"Blau"},null,{"$f":"$A$2","v":"Rot"},{"$f":"$B$2","v":"Grün"},{"$f":"$C$2","v":"Blau"},null,{"$f":"$A$2","v":"Rot"},{"$f":"$B$2","v":"Grün"},{"$f":"$C$2","v":"Blau"},null,{"$f":"$A$2","v":"Rot"},{"$f":"$B$2","v":"Grün"},{"$f":"$C$2","v":"Blau"}]
[{"$f":"$A$3","v":56.666666666666664},{"$f":"Start!$D$31+5*Start!$D$34","v":141.66666666666666},{"$f":"$C$3","v":0},null,{"$f":"$A$3","v":56.666666666666664},{"$f":"Start!$D$31+6*Start!$D$34","v":170},{"$f":"$C$3","v":0},null,{"$f":"$A$3","v":56.666666666666664},{"$f":"Start!$D$31+7*Start!$D$34","v":198.33333333333331},{"$f":"$C$3","v":0},null,{"$f":"$A$3","v":56.666666666666664},{"$f":"Start!$D$31+8*Start!$D$34","v":226.66666666666666},{"$f":"$C$3","v":0},null,{"$f":"$A$3","v":56.666666666666664},{"$f":"Start!$D$31+9*Start!$D$34","v":255},{"$f":"$C$3","v":0}]
[]
[{"$f":"A$18","v":56.666666666666664},{"$f":"B$18","v":141.66666666666666},{"$f":"C$3+0*Start!$E$34","v":0},null,{"$f":"E$18","v":56.666666666666664},{"$f":"F$18","v":170},{"$f":"G$3+0*Start!$E$34","v":0},null,{"$f":"I$18","v":56.666666666666664},{"$f":"J$18","v":198.33333333333331},{"$f":"K$3+0*Start!$E$34","v":0},null,{"$f":"M$18","v":56.666666666666664},{"$f":"N$18","v":226.66666666666666},{"$f":"O$3+0*Start!$E$34","v":0},null,{"$f":"Q$18","v":56.666666666666664},{"$f":"R$18","v":255},{"$f":"S$3+0*Start!$E$34","v":0}]
[{"$f":"A$18","v":56.666666666666664},141.66666666666666,{"$f":"C$3+1*Start!$E$34","v":28.333333333333332},null,{"$f":"E$18","v":56.666666666666664},170,{"$f":"G$3+1*Start!$E$34","v":28.333333333333332},null,{"$f":"I$18","v":56.666666666666664},198.33333333333331,{"$f":"K$3+1*Start!$E$34","v":28.333333333333332},null,{"$f":"M$18","v":56.666666666666664},226.66666666666666,{"$f":"O$3+1*Start!$E$34","v":28.333333333333332},null,{"$f":"Q$18","v":56.666666666666664},255,{"$f":"S$3+1*Start!$E$34","v":28.333333333333332}]
[56.666666666666664,141.66666666666666,{"$f":"C$3+2*Start!$E$34","v":56.666666666666664},null,56.666666666666664,170,{"$f":"G$3+2*Start!$E$34","v":56.666666666666664},null,56.666666666666664,198.33333333333331,{"$f":"K$3+2*Start!$E$34","v":56.666666666666664},null,56.666666666666664,226.66666666666666,{"$f":"O$3+2*Start!$E$34","v":56.666666666666664},null,56.666666666666664,255,{"$f":"S$3+2*Start!$E$34","v":56.666666666666664}]
[56.666666666666664,141.66666666666666,{"$f":"C$3+3*Start!$E$34","v":85},null,56.666666666666664,170,{"$f":"G$3+3*Start!$E$34","v":85},null,56.666666666666664,198.33333333333331,{"$f":"K$3+3*Start!$E$34","v":85},null,56.666666666666664,226.66666666666666,{"$f":"O$3+3*Start!$E$34","v":85},null,56.666666666666664,255,{"$f":"S$3+3*Start!$E$34","v":85}]
[56.666666666666664,141.66666666666666,{"$f":"C$3+4*Start!$E$34","v":113.33333333333333},null,56.666666666666664,170,{"$f":"G$3+4*Start!$E$34","v":113.33333333333333},null,56.666666666666664,198.33333333333331,{"$f":"K$3+4*Start!$E$34","v":113.33333333333333},null,56.666666666666664,226.66666666666666,{"$f":"O$3+4*Start!$E$34","v":113.33333333333333},null,56.666666666666664,255,{"$f":"S$3+4*Start!$E$34","v":113.33333333333333}]
[56.666666666666664,141.66666666666666,{"$f":"C$3+5*Start!$E$34","v":141.66666666666666},null,56.666666666666664,170,{"$f":"G$3+5*Start!$E$34","v":141.66666666666666},null,56.666666666666664,198.33333333333331,{"$f":"K$3+5*Start!$E$34","v":141.66666666666666},null,56.666666666666664,226.66666666666666,{"$f":"O$3+5*Start!$E$34","v":141.66666666666666},null,56.666666666666664,255,{"$f":"S$3+5*Start!$E$34","v":141.66666666666666}]
[56.666666666666664,141.66666666666666,{"$f":"C$3+6*Start!$E$34","v":170},null,56.666666666666664,170,{"$f":"G$3+6*Start!$E$34","v":170},null,56.666666666666664,198.33333333333331,{"$f":"K$3+6*Start!$E$34","v":170},null,56.666666666666664,226.66666666666666,{"$f":"O$3+6*Start!$E$34","v":170},null,56.666666666666664,255,{"$f":"S$3+6*Start!$E$34","v":170}]
[56.666666666666664,141.66666666666666,{"$f":"C$3+7*Start!$E$34","v":198.33333333333331},null,56.666666666666664,170,{"$f":"G$3+7*Start!$E$34","v":198.33333333333331},null,56.666666666666664,198.33333333333331,{"$f":"K$3+7*Start!$E$34","v":198.33333333333331},null,56.666666666666664,226.66666666666666,{"$f":"O$3+7*Start!$E$34","v":198.33333333333331},null,56.666666666666664,255,{"$f":"S$3+7*Start!$E$34","v":198.33333333333331}]
[56.666666666666664,141.66666666666666,{"$f":"C$3+8*Start!$E$34","v":226.66666666666666},null,56.666666666666664,170,{"$f":"G$3+8*Start!$E$34","v":226.66666666666666},null,56.666666666666664,198.33333333333331,{"$f":"K$3+8*Start!$E$34","v":226.66666666666666},null,56.666666666666664,226.66666666666666,{"$f":"O$3+8*Start!$E$34","v":226.66666666666666},null,56.666666666666664,255,{"$f":"S$3+8*Start!$E$34","v":226.66666666666666}]
[56.666666666666664,141.66666666666666,{"$f":"C$3+9*Start!$E$34","v":255},null,56.666666666666664,170,{"$f":"G$3+9*Start!$E$34","v":255},null,56.666666666666664,198.33333333333331,{"$f":"K$3+9*Start!$E$34","v":255},null,56.666666666666664,226.66666666666666,{"$f":"O$3+9*Start!$E$34","v":255},null,56.666666666666664,255,{"$f":"S$3+9*Start!$E$34","v":255}]

{"sheet":"Rot x+3i","index":4,"n_rows":29,"n_cols":19,"rows_kept":29,"cut":false,"hidden":false,"merged":[]}
[]
[{"$f":"'Rot x'!A2","v":"Rot"},{"$f":"'Rot x'!B2","v":"Grün"},{"$f":"'Rot x'!C2","v":"Blau"},null,{"$f":"$A$2","v":"Rot"},{"$f":"$B$2","v":"Grün"},{"$f":"$C$2","v":"Blau"},null,{"$f":"$A$2","v":"Rot"},{"$f":"$B$2","v":"Grün"},{"$f":"$C$2","v":"Blau"},null,{"$f":"$A$2","v":"Rot"},{"$f":"$B$2","v":"Grün"},{"$f":"$C$2","v":"Blau"},null,{"$f":"$A$2","v":"Rot"},{"$f":"$B$2","v":"Grün"},{"$f":"$C$2","v":"Blau"}]
[{"$f":"Start!$C$31+3*Start!$C$34","v":85},{"$f":"Start!$D$31+0*Start!$D$34","v":0},{"$f":"Start!$E$31","v":0},null,{"$f":"$A$3","v":85},{"$f":"Start!$D$31+1*Start!$D$34","v":28.333333333333332},{"$f":"$C$3","v":0},null,{"$f":"$A$3","v":85},{"$f":"Start!$D$31+2*Start!$D$34","v":56.666666666666664},{"$f":"$C$3","v":0},null,{"$f":"$A$3","v":85},{"$f":"Start!$D$31+3*Start!$D$34","v":85},{"$f":"$C$3","v":0},null,{"$f":"$A$3","v":85},{"$f":"Start!$D$31+4*Start!$D$34","v":113.33333333333333},{"$f":"$C$3","v":0}]
[]
[{"$f":"A$3","v":85},{"$f":"B$3","v":0},{"$f":"C$3+0*Start!$E$34","v":0},null,{"$f":"E$3","v":85},{"$f":"F$3","v":28.333333333333332},{"$f":"G$3+0*Start!$E$34","v":0},null,{"$f":"I$3","v":85},{"$f":"J$3","v":56.666666666666664},{"$f":"K$3+0*Start!$E$34","v":0},null,{"$f":"M$3","v":85},{"$f":"N$3","v":85},{"$f":"O$3+0*Start!$E$34","v":0},null,{"$f":"Q$3","v":85},{"$f":"R$3","v":113.33333333333333},{"$f":"S$3+0*Start!$E$34","v":0}]
[{"$f":"A$3","v":85},0,{"$f":"C$3+1*Start!$E$34","v":28.333333333333332},null,{"$f":"E$3","v":85},28.333333333333332,{"$f":"G$3+1*Start!$E$34","v":28.333333333333332},null,{"$f":"I$3","v":85},56.666666666666664,{"$f":"K$3+1*Start!$E$34","v":28.333333333333332},null,{"$f":"M$3","v":85},85,{"$f":"O$3+1*Start!$E$34","v":28.333333333333332},null,{"$f":"Q$3","v":85},113.33333333333333,{"$f":"S$3+1*Start!$E$34","v":28.333333333333332}]
[85,0,{"$f":"C$3+2*Start!$E$34","v":56.666666666666664},null,85,28.333333333333332,{"$f":"G$3+2*Start!$E$34","v":56.666666666666664},null,85,56.666666666666664,{"$f":"K$3+2*Start!$E$34","v":56.666666666666664},null,85,85,{"$f":"O$3+2*Start!$E$34","v":56.666666666666664},null,85,113.33333333333333,{"$f":"S$3+2*Start!$E$34","v":56.666666666666664}]
[85,0,{"$f":"C$3+3*Start!$E$34","v":85},null,85,28.333333333333332,{"$f":"G$3+3*Start!$E$34","v":85},null,85,56.666666666666664,{"$f":"K$3+3*Start!$E$34","v":85},null,85,85,{"$f":"O$3+3*Start!$E$34","v":85},null,85,113.33333333333333,{"$f":"S$3+3*Start!$E$34","v":85}]
[85,0,{"$f":"C$3+4*Start!$E$34","v":113.33333333333333},null,85,28.333333333333332,{"$f":"G$3+4*Start!$E$34","v":113.33333333333333},null,85,56.666666666666664,{"$f":"K$3+4*Start!$E$34","v":113.33333333333333},null,85,85,{"$f":"O$3+4*Start!$E$34","v":113.33333333333333},null,85,113.33333333333333,{"$f":"S$3+4*Start!$E$34","v":113.33333333333333}]
[85,0,{"$f":"C$3+5*Start!$E$34","v":141.66666666666666},null,85,28.333333333333332,{"$f":"G$3+5*Start!$E$34","v":141.66666666666666},null,85,56.666666666666664,{"$f":"K$3+5*Start!$E$34","v":141.66666666666666},null,85,85,{"$f":"O$3+5*Start!$E$34","v":141.66666666666666},null,85,113.33333333333333,{"$f":"S$3+5*Start!$E$34","v":141.66666666666666}]
[85,0,{"$f":"C$3+6*Start!$E$34","v":170},null,85,28.333333333333332,{"$f":"G$3+6*Start!$E$34","v":170},null,85,56.666666666666664,{"$f":"K$3+6*Start!$E$34","v":170},null,85,85,{"$f":"O$3+6*Start!$E$34","v":170},null,85,113.33333333333333,{"$f":"S$3+6*Start!$E$34","v":170}]
[85,0,{"$f":"C$3+7*Start!$E$34","v":198.33333333333331},null,85,28.333333333333332,{"$f":"G$3+7*Start!$E$34","v":198.33333333333331},null,85,56.666666666666664,{"$f":"K$3+7*Start!$E$34","v":198.33333333333331},null,85,85,{"$f":"O$3+7*Start!$E$34","v":198.33333333333331},null,85,113.33333333333333,{"$f":"S$3+7*Start!$E$34","v":198.33333333333331}]
[85,0,{"$f":"C$3+8*Start!$E$34","v":226.66666666666666},null,85,28.333333333333332,{"$f":"G$3+8*Start!$E$34","v":226.66666666666666},null,85,56.666666666666664,{"$f":"K$3+8*Start!$E$34","v":226.66666666666666},null,85,85,{"$f":"O$3+8*Start!$E$34","v":226.66666666666666},null,85,113.33333333333333,{"$f":"S$3+8*Start!$E$34","v":226.66666666666666}]
[85,0,{"$f":"C$3+9*Start!$E$34","v":255},null,85,28.333333333333332,{"$f":"G$3+9*Start!$E$34","v":255},null,85,56.666666666666664,{"$f":"K$3+9*Start!$E$34","v":255},null,85,85,{"$f":"O$3+9*Start!$E$34","v":255},null,85,113.33333333333333,{"$f":"S$3+9*Start!$E$34","v":255}]
[]
[]
[{"$f":"$A$2","v":"Rot"},{"$f":"$B$2","v":"Grün"},{"$f":"$C$2","v":"Blau"},null,{"$f":"$A$2","v":"Rot"},{"$f":"$B$2","v":"Grün"},{"$f":"$C$2","v":"Blau"},null,{"$f":"$A$2","v":"Rot"},{"$f":"$B$2","v":"Grün"},{"$f":"$C$2","v":"Blau"},null,{"$f":"$A$2","v":"Rot"},{"$f":"$B$2","v":"Grün"},{"$f":"$C$2","v":"Blau"},null,{"$f":"$A$2","v":"Rot"},{"$f":"$B$2","v":"Grün"},{"$f":"$C$2","v":"Blau"}]
[{"$f":"$A$3","v":85},{"$f":"Start!$D$31+5*Start!$D$34","v":141.66666666666666},{"$f":"$C$3","v":0},null,{"$f":"$A$3","v":85},{"$f":"Start!$D$31+6*Start!$D$34","v":170},{"$f":"$C$3","v":0},null,{"$f":"$A$3","v":85},{"$f":"Start!$D$31+7*Start!$D$34","v":198.33333333333331},{"$f":"$C$3","v":0},null,{"$f":"$A$3","v":85},{"$f":"Start!$D$31+8*Start!$D$34","v":226.66666666666666},{"$f":"$C$3","v":0},null,{"$f":"$A$3","v":85},{"$f":"Start!$D$31+9*Start!$D$34","v":255},{"$f":"$C$3","v":0}]
[]
[{"$f":"A$18","v":85},{"$f":"B$18","v":141.66666666666666},{"$f":"C$3+0*Start!$E$34","v":0},null,{"$f":"E$18","v":85},{"$f":"F$18","v":170},{"$f":"G$3+0*Start!$E$34","v":0},null,{"$f":"I$18","v":85},{"$f":"J$18","v":198.33333333333331},{"$f":"K$3+0*Start!$E$34","v":0},null,{"$f":"M$18","v":85},{"$f":"N$18","v":226.66666666666666},{"$f":"O$3+0*Start!$E$34","v":0},null,{"$f":"Q$18","v":85},{"$f":"R$18","v":255},{"$f":"S$3+0*Start!$E$34","v":0}]
[{"$f":"A$18","v":85},141.66666666666666,{"$f":"C$3+1*Start!$E$34","v":28.333333333333332},null,{"$f":"E$18","v":85},170,{"$f":"G$3+1*Start!$E$34","v":28.333333333333332},null,{"$f":"I$18","v":85},198.33333333333331,{"$f":"K$3+1*Start!$E$34","v":28.333333333333332},null,{"$f":"M$18","v":85},226.66666666666666,{"$f":"O$3+1*Start!$E$34","v":28.333333333333332},null,{"$f":"Q$18","v":85},255,{"$f":"S$3+1*Start!$E$34","v":28.333333333333332}]
[85,141.66666666666666,{"$f":"C$3+2*Start!$E$34","v":56.666666666666664},null,85,170,{"$f":"G$3+2*Start!$E$34","v":56.666666666666664},null,85,198.33333333333331,{"$f":"K$3+2*Start!$E$34","v":56.666666666666664},null,85,226.66666666666666,{"$f":"O$3+2*Start!$E$34","v":56.666666666666664},null,85,255,{"$f":"S$3+2*Start!$E$34","v":56.666666666666664}]
[85,141.66666666666666,{"$f":"C$3+3*Start!$E$34","v":85},null,85,170,{"$f":"G$3+3*Start!$E$34","v":85},null,85,198.33333333333331,{"$f":"K$3+3*Start!$E$34","v":85},null,85,226.66666666666666,{"$f":"O$3+3*Start!$E$34","v":85},null,85,255,{"$f":"S$3+3*Start!$E$34","v":85}]
[85,141.66666666666666,{"$f":"C$3+4*Start!$E$34","v":113.33333333333333},null,85,170,{"$f":"G$3+4*Start!$E$34","v":113.33333333333333},null,85,198.33333333333331,{"$f":"K$3+4*Start!$E$34","v":113.33333333333333},null,85,226.66666666666666,{"$f":"O$3+4*Start!$E$34","v":113.33333333333333},null,85,255,{"$f":"S$3+4*Start!$E$34","v":113.33333333333333}]
[85,141.66666666666666,{"$f":"C$3+5*Start!$E$34","v":141.66666666666666},null,85,170,{"$f":"G$3+5*Start!$E$34","v":141.66666666666666},null,85,198.33333333333331,{"$f":"K$3+5*Start!$E$34","v":141.66666666666666},null,85,226.66666666666666,{"$f":"O$3+5*Start!$E$34","v":141.66666666666666},null,85,255,{"$f":"S$3+5*Start!$E$34","v":141.66666666666666}]
[85,141.66666666666666,{"$f":"C$3+6*Start!$E$34","v":170},null,85,170,{"$f":"G$3+6*Start!$E$34","v":170},null,85,198.33333333333331,{"$f":"K$3+6*Start!$E$34","v":170},null,85,226.66666666666666,{"$f":"O$3+6*Start!$E$34","v":170},null,85,255,{"$f":"S$3+6*Start!$E$34","v":170}]
[85,141.66666666666666,{"$f":"C$3+7*Start!$E$34","v":198.33333333333331},null,85,170,{"$f":"G$3+7*Start!$E$34","v":198.33333333333331},null,85,198.33333333333331,{"$f":"K$3+7*Start!$E$34","v":198.33333333333331},null,85,226.66666666666666,{"$f":"O$3+7*Start!$E$34","v":198.33333333333331},null,85,255,{"$f":"S$3+7*Start!$E$34","v":198.33333333333331}]
[85,141.66666666666666,{"$f":"C$3+8*Start!$E$34","v":226.66666666666666},null,85,170,{"$f":"G$3+8*Start!$E$34","v":226.66666666666666},null,85,198.33333333333331,{"$f":"K$3+8*Start!$E$34","v":226.66666666666666},null,85,226.66666666666666,{"$f":"O$3+8*Start!$E$34","v":226.66666666666666},null,85,255,{"$f":"S$3+8*Start!$E$34","v":226.66666666666666}]
[85,141.66666666666666,{"$f":"C$3+9*Start!$E$34","v":255},null,85,170,{"$f":"G$3+9*Start!$E$34","v":255},null,85,198.33333333333331,{"$f":"K$3+9*Start!$E$34","v":255},null,85,226.66666666666666,{"$f":"O$3+9*Start!$E$34","v":255},null,85,255,{"$f":"S$3+9*Start!$E$34","v":255}]

{"sheet":"Rot x+4i","index":5,"n_rows":29,"n_cols":19,"rows_kept":29,"cut":false,"hidden":false,"merged":[]}
[]
[{"$f":"'Rot x'!A2","v":"Rot"},{"$f":"'Rot x'!B2","v":"Grün"},{"$f":"'Rot x'!C2","v":"Blau"},null,{"$f":"$A$2","v":"Rot"},{"$f":"$B$2","v":"Grün"},{"$f":"$C$2","v":"Blau"},null,{"$f":"$A$2","v":"Rot"},{"$f":"$B$2","v":"Grün"},{"$f":"$C$2","v":"Blau"},null,{"$f":"$A$2","v":"Rot"},{"$f":"$B$2","v":"Grün"},{"$f":"$C$2","v":"Blau"},null,{"$f":"$A$2","v":"Rot"},{"$f":"$B$2","v":"Grün"},{"$f":"$C$2","v":"Blau"}]
[{"$f":"Start!$C$31+4*Start!$C$34","v":113.33333333333333},{"$f":"Start!$D$31+0*Start!$D$34","v":0},{"$f":"Start!$E$31","v":0},null,{"$f":"$A$3","v":113.33333333333333},{"$f":"Start!$D$31+1*Start!$D$34","v":28.333333333333332},{"$f":"$C$3","v":0},null,{"$f":"$A$3","v":113.33333333333333},{"$f":"Start!$D$31+2*Start!$D$34","v":56.666666666666664},{"$f":"$C$3","v":0},null,{"$f":"$A$3","v":113.33333333333333},{"$f":"Start!$D$31+3*Start!$D$34","v":85},{"$f":"$C$3","v":0},null,{"$f":"$A$3","v":113.33333333333333},{"$f":"Start!$D$31+4*Start!$D$34","v":113.33333333333333},{"$f":"$C$3","v":0}]
[]
[{"$f":"A$3","v":113.33333333333333},{"$f":"B$3","v":0},{"$f":"C$3+0*Start!$E$34","v":0},null,{"$f":"E$3","v":113.33333333333333},{"$f":"F$3","v":28.333333333333332},{"$f":"G$3+0*Start!$E$34","v":0},null,{"$f":"I$3","v":113.33333333333333},{"$f":"J$3","v":56.666666666666664},{"$f":"K$3+0*Start!$E$34","v":0},null,{"$f":"M$3","v":113.33333333333333},{"$f":"N$3","v":85},{"$f":"O$3+0*Start!$E$34","v":0},null,{"$f":"Q$3","v":113.33333333333333},{"$f":"R$3","v":113.33333333333333},{"$f":"S$3+0*Start!$E$34","v":0}]
[{"$f":"A$3","v":113.33333333333333},0,{"$f":"C$3+1*Start!$E$34","v":28.333333333333332},null,{"$f":"E$3","v":113.33333333333333},28.333333333333332,{"$f":"G$3+1*Start!$E$34","v":28.333333333333332},null,{"$f":"I$3","v":113.33333333333333},56.666666666666664,{"$f":"K$3+1*Start!$E$34","v":28.333333333333332},null,{"$f":"M$3","v":113.33333333333333},85,{"$f":"O$3+1*Start!$E$34","v":28.333333333333332},null,{"$f":"Q$3","v":113.33333333333333},113.33333333333333,{"$f":"S$3+1*Start!$E$34","v":28.333333333333332}]
[113.33333333333333,0,{"$f":"C$3+2*Start!$E$34","v":56.666666666666664},null,113.33333333333333,28.333333333333332,{"$f":"G$3+2*Start!$E$34","v":56.666666666666664},null,113.33333333333333,56.666666666666664,{"$f":"K$3+2*Start!$E$34","v":56.666666666666664},null,113.33333333333333,85,{"$f":"O$3+2*Start!$E$34","v":56.666666666666664},null,113.33333333333333,113.33333333333333,{"$f":"S$3+2*Start!$E$34","v":56.666666666666664}]
[113.33333333333333,0,{"$f":"C$3+3*Start!$E$34","v":85},null,113.33333333333333,28.333333333333332,{"$f":"G$3+3*Start!$E$34","v":85},null,113.33333333333333,56.666666666666664,{"$f":"K$3+3*Start!$E$34","v":85},null,113.33333333333333,85,{"$f":"O$3+3*Start!$E$34","v":85},null,113.33333333333333,113.33333333333333,{"$f":"S$3+3*Start!$E$34","v":85}]
[113.33333333333333,0,{"$f":"C$3+4*Start!$E$34","v":113.33333333333333},null,113.33333333333333,28.333333333333332,{"$f":"G$3+4*Start!$E$34","v":113.33333333333333},null,113.33333333333333,56.666666666666664,{"$f":"K$3+4*Start!$E$34","v":113.33333333333333},null,113.33333333333333,85,{"$f":"O$3+4*Start!$E$34","v":113.33333333333333},null,113.33333333333333,113.33333333333333,{"$f":"S$3+4*Start!$E$34","v":113.33333333333333}]
[113.33333333333333,0,{"$f":"C$3+5*Start!$E$34","v":141.66666666666666},null,113.33333333333333,28.333333333333332,{"$f":"G$3+5*Start!$E$34","v":141.66666666666666},null,113.33333333333333,56.666666666666664,{"$f":"K$3+5*Start!$E$34","v":141.66666666666666},null,113.33333333333333,85,{"$f":"O$3+5*Start!$E$34","v":141.66666666666666},null,113.33333333333333,113.33333333333333,{"$f":"S$3+5*Start!$E$34","v":141.66666666666666}]
[113.33333333333333,0,{"$f":"C$3+6*Start!$E$34","v":170},null,113.33333333333333,28.333333333333332,{"$f":"G$3+6*Start!$E$34","v":170},null,113.33333333333333,56.666666666666664,{"$f":"K$3+6*Start!$E$34","v":170},null,113.33333333333333,85,{"$f":"O$3+6*Start!$E$34","v":170},null,113.33333333333333,113.33333333333333,{"$f":"S$3+6*Start!$E$34","v":170}]
[113.33333333333333,0,{"$f":"C$3+7*Start!$E$34","v":198.33333333333331},null,113.33333333333333,28.333333333333332,{"$f":"G$3+7*Start!$E$34","v":198.33333333333331},null,113.33333333333333,56.666666666666664,{"$f":"K$3+7*Start!$E$34","v":198.33333333333331},null,113.33333333333333,85,{"$f":"O$3+7*Start!$E$34","v":198.33333333333331},null,113.33333333333333,113.33333333333333,{"$f":"S$3+7*Start!$E$34","v":198.33333333333331}]
[113.33333333333333,0,{"$f":"C$3+8*Start!$E$34","v":226.66666666666666},null,113.33333333333333,28.333333333333332,{"$f":"G$3+8*Start!$E$34","v":226.66666666666666},null,113.33333333333333,56.666666666666664,{"$f":"K$3+8*Start!$E$34","v":226.66666666666666},null,113.33333333333333,85,{"$f":"O$3+8*Start!$E$34","v":226.66666666666666},null,113.33333333333333,113.33333333333333,{"$f":"S$3+8*Start!$E$34","v":226.66666666666666}]
[113.33333333333333,0,{"$f":"C$3+9*Start!$E$34","v":255},null,113.33333333333333,28.333333333333332,{"$f":"G$3+9*Start!$E$34","v":255},null,113.33333333333333,56.666666666666664,{"$f":"K$3+9*Start!$E$34","v":255},null,113.33333333333333,85,{"$f":"O$3+9*Start!$E$34","v":255},null,113.33333333333333,113.33333333333333,{"$f":"S$3+9*Start!$E$34","v":255}]
[]
[]
[{"$f":"$A$2","v":"Rot"},{"$f":"$B$2","v":"Grün"},{"$f":"$C$2","v":"Blau"},null,{"$f":"$A$2","v":"Rot"},{"$f":"$B$2","v":"Grün"},{"$f":"$C$2","v":"Blau"},null,{"$f":"$A$2","v":"Rot"},{"$f":"$B$2","v":"Grün"},{"$f":"$C$2","v":"Blau"},null,{"$f":"$A$2","v":"Rot"},{"$f":"$B$2","v":"Grün"},{"$f":"$C$2","v":"Blau"},null,{"$f":"$A$2","v":"Rot"},{"$f":"$B$2","v":"Grün"},{"$f":"$C$2","v":"Blau"}]
[{"$f":"$A$3","v":113.33333333333333},{"$f":"Start!$D$31+5*Start!$D$34","v":141.66666666666666},{"$f":"$C$3","v":0},null,{"$f":"$A$3","v":113.33333333333333},{"$f":"Start!$D$31+6*Start!$D$34","v":170},{"$f":"$C$3","v":0},null,{"$f":"$A$3","v":113.33333333333333},{"$f":"Start!$D$31+7*Start!$D$34","v":198.33333333333331},{"$f":"$C$3","v":0},null,{"$f":"$A$3","v":113.33333333333333},{"$f":"Start!$D$31+8*Start!$D$34","v":226.66666666666666},{"$f":"$C$3","v":0},null,{"$f":"$A$3","v":113.33333333333333},{"$f":"Start!$D$31+9*Start!$D$34","v":255},{"$f":"$C$3","v":0}]
[]
[{"$f":"A$18","v":113.33333333333333},{"$f":"B$18","v":141.66666666666666},{"$f":"C$3+0*Start!$E$34","v":0},null,{"$f":"E$18","v":113.33333333333333},{"$f":"F$18","v":170},{"$f":"G$3+0*Start!$E$34","v":0},null,{"$f":"I$18","v":113.33333333333333},{"$f":"J$18","v":198.33333333333331},{"$f":"K$3+0*Start!$E$34","v":0},null,{"$f":"M$18","v":113.33333333333333},{"$f":"N$18","v":226.66666666666666},{"$f":"O$3+0*Start!$E$34","v":0},null,{"$f":"Q$18","v":113.33333333333333},{"$f":"R$18","v":255},{"$f":"S$3+0*Start!$E$34","v":0}]
[{"$f":"A$18","v":113.33333333333333},141.66666666666666,{"$f":"C$3+1*Start!$E$34","v":28.333333333333332},null,{"$f":"E$18","v":113.33333333333333},170,{"$f":"G$3+1*Start!$E$34","v":28.333333333333332},null,{"$f":"I$18","v":113.33333333333333},198.33333333333331,{"$f":"K$3+1*Start!$E$34","v":28.333333333333332},null,{"$f":"M$18","v":113.33333333333333},226.66666666666666,{"$f":"O$3+1*Start!$E$34","v":28.333333333333332},null,{"$f":"Q$18","v":113.33333333333333},255,{"$f":"S$3+1*Start!$E$34","v":28.333333333333332}]
[113.33333333333333,141.66666666666666,{"$f":"C$3+2*Start!$E$34","v":56.666666666666664},null,113.33333333333333,170,{"$f":"G$3+2*Start!$E$34","v":56.666666666666664},null,113.33333333333333,198.33333333333331,{"$f":"K$3+2*Start!$E$34","v":56.666666666666664},null,113.33333333333333,226.66666666666666,{"$f":"O$3+2*Start!$E$34","v":56.666666666666664},null,113.33333333333333,255,{"$f":"S$3+2*Start!$E$34","v":56.666666666666664}]
[113.33333333333333,141.66666666666666,{"$f":"C$3+3*Start!$E$34","v":85},null,113.33333333333333,170,{"$f":"G$3+3*Start!$E$34","v":85},null,113.33333333333333,198.33333333333331,{"$f":"K$3+3*Start!$E$34","v":85},null,113.33333333333333,226.66666666666666,{"$f":"O$3+3*Start!$E$34","v":85},null,113.33333333333333,255,{"$f":"S$3+3*Start!$E$34","v":85}]
[113.33333333333333,141.66666666666666,{"$f":"C$3+4*Start!$E$34","v":113.33333333333333},null,113.33333333333333,170,{"$f":"G$3+4*Start!$E$34","v":113.33333333333333},null,113.33333333333333,198.33333333333331,{"$f":"K$3+4*Start!$E$34","v":113.33333333333333},null,113.33333333333333,226.66666666666666,{"$f":"O$3+4*Start!$E$34","v":113.33333333333333},null,113.33333333333333,255,{"$f":"S$3+4*Start!$E$34","v":113.33333333333333}]
[113.33333333333333,141.66666666666666,{"$f":"C$3+5*Start!$E$34","v":141.66666666666666},null,113.33333333333333,170,{"$f":"G$3+5*Start!$E$34","v":141.66666666666666},null,113.33333333333333,198.33333333333331,{"$f":"K$3+5*Start!$E$34","v":141.66666666666666},null,113.33333333333333,226.66666666666666,{"$f":"O$3+5*Start!$E$34","v":141.66666666666666},null,113.33333333333333,255,{"$f":"S$3+5*Start!$E$34","v":141.66666666666666}]
[113.33333333333333,141.66666666666666,{"$f":"C$3+6*Start!$E$34","v":170},null,113.33333333333333,170,{"$f":"G$3+6*Start!$E$34","v":170},null,113.33333333333333,198.33333333333331,{"$f":"K$3+6*Start!$E$34","v":170},null,113.33333333333333,226.66666666666666,{"$f":"O$3+6*Start!$E$34","v":170},null,113.33333333333333,255,{"$f":"S$3+6*Start!$E$34","v":170}]
[113.33333333333333,141.66666666666666,{"$f":"C$3+7*Start!$E$34","v":198.33333333333331},null,113.33333333333333,170,{"$f":"G$3+7*Start!$E$34","v":198.33333333333331},null,113.33333333333333,198.33333333333331,{"$f":"K$3+7*Start!$E$34","v":198.33333333333331},null,113.33333333333333,226.66666666666666,{"$f":"O$3+7*Start!$E$34","v":198.33333333333331},null,113.33333333333333,255,{"$f":"S$3+7*Start!$E$34","v":198.33333333333331}]
[113.33333333333333,141.66666666666666,{"$f":"C$3+8*Start!$E$34","v":226.66666666666666},null,113.33333333333333,170,{"$f":"G$3+8*Start!$E$34","v":226.66666666666666},null,113.33333333333333,198.33333333333331,{"$f":"K$3+8*Start!$E$34","v":226.66666666666666},null,113.33333333333333,226.66666666666666,{"$f":"O$3+8*Start!$E$34","v":226.66666666666666},null,113.33333333333333,255,{"$f":"S$3+8*Start!$E$34","v":226.66666666666666}]
[113.33333333333333,141.66666666666666,{"$f":"C$3+9*Start!$E$34","v":255},null,113.33333333333333,170,{"$f":"G$3+9*Start!$E$34","v":255},null,113.33333333333333,198.33333333333331,{"$f":"K$3+9*Start!$E$34","v":255},null,113.33333333333333,226.66666666666666,{"$f":"O$3+9*Start!$E$34","v":255},null,113.33333333333333,255,{"$f":"S$3+9*Start!$E$34","v":255}]

{"sheet":"Rot x+5i","index":6,"n_rows":29,"n_cols":19,"rows_kept":29,"cut":false,"hidden":false,"merged":[]}
[]
[{"$f":"'Rot x'!A2","v":"Rot"},{"$f":"'Rot x'!B2","v":"Grün"},{"$f":"'Rot x'!C2","v":"Blau"},null,{"$f":"$A$2","v":"Rot"},{"$f":"$B$2","v":"Grün"},{"$f":"$C$2","v":"Blau"},null,{"$f":"$A$2","v":"Rot"},{"$f":"$B$2","v":"Grün"},{"$f":"$C$2","v":"Blau"},null,{"$f":"$A$2","v":"Rot"},{"$f":"$B$2","v":"Grün"},{"$f":"$C$2","v":"Blau"},null,{"$f":"$A$2","v":"Rot"},{"$f":"$B$2","v":"Grün"},{"$f":"$C$2","v":"Blau"}]
[{"$f":"Start!$C$31+5*Start!$C$34","v":141.66666666666666},{"$f":"Start!$D$31+0*Start!$D$34","v":0},{"$f":"Start!$E$31","v":0},null,{"$f":"$A$3","v":141.66666666666666},{"$f":"Start!$D$31+1*Start!$D$34","v":28.333333333333332},{"$f":"$C$3","v":0},null,{"$f":"$A$3","v":141.66666666666666},{"$f":"Start!$D$31+2*Start!$D$34","v":56.666666666666664},{"$f":"$C$3","v":0},null,{"$f":"$A$3","v":141.66666666666666},{"$f":"Start!$D$31+3*Start!$D$34","v":85},{"$f":"$C$3","v":0},null,{"$f":"$A$3","v":141.66666666666666},{"$f":"Start!$D$31+4*Start!$D$34","v":113.33333333333333},{"$f":"$C$3","v":0}]
[]
[{"$f":"A$3","v":141.66666666666666},{"$f":"B$3","v":0},{"$f":"C$3+0*Start!$E$34","v":0},null,{"$f":"E$3","v":141.66666666666666},{"$f":"F$3","v":28.333333333333332},{"$f":"G$3+0*Start!$E$34","v":0},null,{"$f":"I$3","v":141.66666666666666},{"$f":"J$3","v":56.666666666666664},{"$f":"K$3+0*Start!$E$34","v":0},null,{"$f":"M$3","v":141.66666666666666},{"$f":"N$3","v":85},{"$f":"O$3+0*Start!$E$34","v":0},null,{"$f":"Q$3","v":141.66666666666666},{"$f":"R$3","v":113.33333333333333},{"$f":"S$3+0*Start!$E$34","v":0}]
[{"$f":"A$3","v":141.66666666666666},0,{"$f":"C$3+1*Start!$E$34","v":28.333333333333332},null,{"$f":"E$3","v":141.66666666666666},28.333333333333332,{"$f":"G$3+1*Start!$E$34","v":28.333333333333332},null,{"$f":"I$3","v":141.66666666666666},56.666666666666664,{"$f":"K$3+1*Start!$E$34","v":28.333333333333332},null,{"$f":"M$3","v":141.66666666666666},85,{"$f":"O$3+1*Start!$E$34","v":28.333333333333332},null,{"$f":"Q$3","v":141.66666666666666},113.33333333333333,{"$f":"S$3+1*Start!$E$34","v":28.333333333333332}]
[141.66666666666666,0,{"$f":"C$3+2*Start!$E$34","v":56.666666666666664},null,141.66666666666666,28.333333333333332,{"$f":"G$3+2*Start!$E$34","v":56.666666666666664},null,141.66666666666666,56.666666666666664,{"$f":"K$3+2*Start!$E$34","v":56.666666666666664},null,141.66666666666666,85,{"$f":"O$3+2*Start!$E$34","v":56.666666666666664},null,141.66666666666666,113.33333333333333,{"$f":"S$3+2*Start!$E$34","v":56.666666666666664}]
[141.66666666666666,0,{"$f":"C$3+3*Start!$E$34","v":85},null,141.66666666666666,28.333333333333332,{"$f":"G$3+3*Start!$E$34","v":85},null,141.66666666666666,56.666666666666664,{"$f":"K$3+3*Start!$E$34","v":85},null,141.66666666666666,85,{"$f":"O$3+3*Start!$E$34","v":85},null,141.66666666666666,113.33333333333333,{"$f":"S$3+3*Start!$E$34","v":85}]
[141.66666666666666,0,{"$f":"C$3+4*Start!$E$34","v":113.33333333333333},null,141.66666666666666,28.333333333333332,{"$f":"G$3+4*Start!$E$34","v":113.33333333333333},null,141.66666666666666,56.666666666666664,{"$f":"K$3+4*Start!$E$34","v":113.33333333333333},null,141.66666666666666,85,{"$f":"O$3+4*Start!$E$34","v":113.33333333333333},null,141.66666666666666,113.33333333333333,{"$f":"S$3+4*Start!$E$34","v":113.33333333333333}]
[141.66666666666666,0,{"$f":"C$3+5*Start!$E$34","v":141.66666666666666},null,141.66666666666666,28.333333333333332,{"$f":"G$3+5*Start!$E$34","v":141.66666666666666},null,141.66666666666666,56.666666666666664,{"$f":"K$3+5*Start!$E$34","v":141.66666666666666},null,141.66666666666666,85,{"$f":"O$3+5*Start!$E$34","v":141.66666666666666},null,141.66666666666666,113.33333333333333,{"$f":"S$3+5*Start!$E$34","v":141.66666666666666}]
[141.66666666666666,0,{"$f":"C$3+6*Start!$E$34","v":170},null,141.66666666666666,28.333333333333332,{"$f":"G$3+6*Start!$E$34","v":170},null,141.66666666666666,56.666666666666664,{"$f":"K$3+6*Start!$E$34","v":170},null,141.66666666666666,85,{"$f":"O$3+6*Start!$E$34","v":170},null,141.66666666666666,113.33333333333333,{"$f":"S$3+6*Start!$E$34","v":170}]
[141.66666666666666,0,{"$f":"C$3+7*Start!$E$34","v":198.33333333333331},null,141.66666666666666,28.333333333333332,{"$f":"G$3+7*Start!$E$34","v":198.33333333333331},null,141.66666666666666,56.666666666666664,{"$f":"K$3+7*Start!$E$34","v":198.33333333333331},null,141.66666666666666,85,{"$f":"O$3+7*Start!$E$34","v":198.33333333333331},null,141.66666666666666,113.33333333333333,{"$f":"S$3+7*Start!$E$34","v":198.33333333333331}]
[141.66666666666666,0,{"$f":"C$3+8*Start!$E$34","v":226.66666666666666},null,141.66666666666666,28.333333333333332,{"$f":"G$3+8*Start!$E$34","v":226.66666666666666},null,141.66666666666666,56.666666666666664,{"$f":"K$3+8*Start!$E$34","v":226.66666666666666},null,141.66666666666666,85,{"$f":"O$3+8*Start!$E$34","v":226.66666666666666},null,141.66666666666666,113.33333333333333,{"$f":"S$3+8*Start!$E$34","v":226.66666666666666}]
[141.66666666666666,0,{"$f":"C$3+9*Start!$E$34","v":255},null,141.66666666666666,28.333333333333332,{"$f":"G$3+9*Start!$E$34","v":255},null,141.66666666666666,56.666666666666664,{"$f":"K$3+9*Start!$E$34","v":255},null,141.66666666666666,85,{"$f":"O$3+9*Start!$E$34","v":255},null,141.66666666666666,113.33333333333333,{"$f":"S$3+9*Start!$E$34","v":255}]
[]
[]
[{"$f":"$A$2","v":"Rot"},{"$f":"$B$2","v":"Grün"},{"$f":"$C$2","v":"Blau"},null,{"$f":"$A$2","v":"Rot"},{"$f":"$B$2","v":"Grün"},{"$f":"$C$2","v":"Blau"},null,{"$f":"$A$2","v":"Rot"},{"$f":"$B$2","v":"Grün"},{"$f":"$C$2","v":"Blau"},null,{"$f":"$A$2","v":"Rot"},{"$f":"$B$2","v":"Grün"},{"$f":"$C$2","v":"Blau"},null,{"$f":"$A$2","v":"Rot"},{"$f":"$B$2","v":"Grün"},{"$f":"$C$2","v":"Blau"}]
[{"$f":"$A$3","v":141.66666666666666},{"$f":"Start!$D$31+5*Start!$D$34","v":141.66666666666666},{"$f":"$C$3","v":0},null,{"$f":"$A$3","v":141.66666666666666},{"$f":"Start!$D$31+6*Start!$D$34","v":170},{"$f":"$C$3","v":0},null,{"$f":"$A$3","v":141.66666666666666},{"$f":"Start!$D$31+7*Start!$D$34","v":198.33333333333331},{"$f":"$C$3","v":0},null,{"$f":"$A$3","v":141.66666666666666},{"$f":"Start!$D$31+8*Start!$D$34","v":226.66666666666666},{"$f":"$C$3","v":0},null,{"$f":"$A$3","v":141.66666666666666},{"$f":"Start!$D$31+9*Start!$D$34","v":255},{"$f":"$C$3","v":0}]
[]
[{"$f":"A$18","v":141.66666666666666},{"$f":"B$18","v":141.66666666666666},{"$f":"C$3+0*Start!$E$34","v":0},null,{"$f":"E$18","v":141.66666666666666},{"$f":"F$18","v":170},{"$f":"G$3+0*Start!$E$34","v":0},null,{"$f":"I$18","v":141.66666666666666},{"$f":"J$18","v":198.33333333333331},{"$f":"K$3+0*Start!$E$34","v":0},null,{"$f":"M$18","v":141.66666666666666},{"$f":"N$18","v":226.66666666666666},{"$f":"O$3+0*Start!$E$34","v":0},null,{"$f":"Q$18","v":141.66666666666666},{"$f":"R$18","v":255},{"$f":"S$3+0*Start!$E$34","v":0}]
[{"$f":"A$18","v":141.66666666666666},141.66666666666666,{"$f":"C$3+1*Start!$E$34","v":28.333333333333332},null,{"$f":"E$18","v":141.66666666666666},170,{"$f":"G$3+1*Start!$E$34","v":28.333333333333332},null,{"$f":"I$18","v":141.66666666666666},198.33333333333331,{"$f":"K$3+1*Start!$E$34","v":28.333333333333332},null,{"$f":"M$18","v":141.66666666666666},226.66666666666666,{"$f":"O$3+1*Start!$E$34","v":28.333333333333332},null,{"$f":"Q$18","v":141.66666666666666},255,{"$f":"S$3+1*Start!$E$34","v":28.333333333333332}]
[141.66666666666666,141.66666666666666,{"$f":"C$3+2*Start!$E$34","v":56.666666666666664},null,141.66666666666666,170,{"$f":"G$3+2*Start!$E$34","v":56.666666666666664},null,141.66666666666666,198.33333333333331,{"$f":"K$3+2*Start!$E$34","v":56.666666666666664},null,141.66666666666666,226.66666666666666,{"$f":"O$3+2*Start!$E$34","v":56.666666666666664},null,141.66666666666666,255,{"$f":"S$3+2*Start!$E$34","v":56.666666666666664}]
[141.66666666666666,141.66666666666666,{"$f":"C$3+3*Start!$E$34","v":85},null,141.66666666666666,170,{"$f":"G$3+3*Start!$E$34","v":85},null,141.66666666666666,198.33333333333331,{"$f":"K$3+3*Start!$E$34","v":85},null,141.66666666666666,226.66666666666666,{"$f":"O$3+3*Start!$E$34","v":85},null,141.66666666666666,255,{"$f":"S$3+3*Start!$E$34","v":85}]
[141.66666666666666,141.66666666666666,{"$f":"C$3+4*Start!$E$34","v":113.33333333333333},null,141.66666666666666,170,{"$f":"G$3+4*Start!$E$34","v":113.33333333333333},null,141.66666666666666,198.33333333333331,{"$f":"K$3+4*Start!$E$34","v":113.33333333333333},null,141.66666666666666,226.66666666666666,{"$f":"O$3+4*Start!$E$34","v":113.33333333333333},null,141.66666666666666,255,{"$f":"S$3+4*Start!$E$34","v":113.33333333333333}]
[141.66666666666666,141.66666666666666,{"$f":"C$3+5*Start!$E$34","v":141.66666666666666},null,141.66666666666666,170,{"$f":"G$3+5*Start!$E$34","v":141.66666666666666},null,141.66666666666666,198.33333333333331,{"$f":"K$3+5*Start!$E$34","v":141.66666666666666},null,141.66666666666666,226.66666666666666,{"$f":"O$3+5*Start!$E$34","v":141.66666666666666},null,141.66666666666666,255,{"$f":"S$3+5*Start!$E$34","v":141.66666666666666}]
[141.66666666666666,141.66666666666666,{"$f":"C$3+6*Start!$E$34","v":170},null,141.66666666666666,170,{"$f":"G$3+6*Start!$E$34","v":170},null,141.66666666666666,198.33333333333331,{"$f":"K$3+6*Start!$E$34","v":170},null,141.66666666666666,226.66666666666666,{"$f":"O$3+6*Start!$E$34","v":170},null,141.66666666666666,255,{"$f":"S$3+6*Start!$E$34","v":170}]
[141.66666666666666,141.66666666666666,{"$f":"C$3+7*Start!$E$34","v":198.33333333333331},null,141.66666666666666,170,{"$f":"G$3+7*Start!$E$34","v":198.33333333333331},null,141.66666666666666,198.33333333333331,{"$f":"K$3+7*Start!$E$34","v":198.33333333333331},null,141.66666666666666,226.66666666666666,{"$f":"O$3+7*Start!$E$34","v":198.33333333333331},null,141.66666666666666,255,{"$f":"S$3+7*Start!$E$34","v":198.33333333333331}]
[141.66666666666666,141.66666666666666,{"$f":"C$3+8*Start!$E$34","v":226.66666666666666},null,141.66666666666666,170,{"$f":"G$3+8*Start!$E$34","v":226.66666666666666},null,141.66666666666666,198.33333333333331,{"$f":"K$3+8*Start!$E$34","v":226.66666666666666},null,141.66666666666666,226.66666666666666,{"$f":"O$3+8*Start!$E$34","v":226.66666666666666},null,141.66666666666666,255,{"$f":"S$3+8*Start!$E$34","v":226.66666666666666}]
[141.66666666666666,141.66666666666666,{"$f":"C$3+9*Start!$E$34","v":255},null,141.66666666666666,170,{"$f":"G$3+9*Start!$E$34","v":255},null,141.66666666666666,198.33333333333331,{"$f":"K$3+9*Start!$E$34","v":255},null,141.66666666666666,226.66666666666666,{"$f":"O$3+9*Start!$E$34","v":255},null,141.66666666666666,255,{"$f":"S$3+9*Start!$E$34","v":255}]

{"sheet":"Rot x+6i","index":7,"n_rows":29,"n_cols":19,"rows_kept":29,"cut":false,"hidden":false,"merged":[]}
[]
[{"$f":"'Rot x'!A2","v":"Rot"},{"$f":"'Rot x'!B2","v":"Grün"},{"$f":"'Rot x'!C2","v":"Blau"},null,{"$f":"$A$2","v":"Rot"},{"$f":"$B$2","v":"Grün"},{"$f":"$C$2","v":"Blau"},null,{"$f":"$A$2","v":"Rot"},{"$f":"$B$2","v":"Grün"},{"$f":"$C$2","v":"Blau"},null,{"$f":"$A$2","v":"Rot"},{"$f":"$B$2","v":"Grün"},{"$f":"$C$2","v":"Blau"},null,{"$f":"$A$2","v":"Rot"},{"$f":"$B$2","v":"Grün"},{"$f":"$C$2","v":"Blau"}]
[{"$f":"Start!$C$31+6*Start!$C$34","v":170},{"$f":"Start!$D$31+0*Start!$D$34","v":0},{"$f":"Start!$E$31","v":0},null,{"$f":"$A$3","v":170},{"$f":"Start!$D$31+1*Start!$D$34","v":28.333333333333332},{"$f":"$C$3","v":0},null,{"$f":"$A$3","v":170},{"$f":"Start!$D$31+2*Start!$D$34","v":56.666666666666664},{"$f":"$C$3","v":0},null,{"$f":"$A$3","v":170},{"$f":"Start!$D$31+3*Start!$D$34","v":85},{"$f":"$C$3","v":0},null,{"$f":"$A$3","v":170},{"$f":"Start!$D$31+4*Start!$D$34","v":113.33333333333333},{"$f":"$C$3","v":0}]
[]
[{"$f":"A$3","v":170},{"$f":"B$3","v":0},{"$f":"C$3+0*Start!$E$34","v":0},null,{"$f":"E$3","v":170},{"$f":"F$3","v":28.333333333333332},{"$f":"G$3+0*Start!$E$34","v":0},null,{"$f":"I$3","v":170},{"$f":"J$3","v":56.666666666666664},{"$f":"K$3+0*Start!$E$34","v":0},null,{"$f":"M$3","v":170},{"$f":"N$3","v":85},{"$f":"O$3+0*Start!$E$34","v":0},null,{"$f":"Q$3","v":170},{"$f":"R$3","v":113.33333333333333},{"$f":"S$3+0*Start!$E$34","v":0}]
[{"$f":"A$3","v":170},0,{"$f":"C$3+1*Start!$E$34","v":28.333333333333332},null,{"$f":"E$3","v":170},28.333333333333332,{"$f":"G$3+1*Start!$E$34","v":28.333333333333332},null,{"$f":"I$3","v":170},56.666666666666664,{"$f":"K$3+1*Start!$E$34","v":28.333333333333332},null,{"$f":"M$3","v":170},85,{"$f":"O$3+1*Start!$E$34","v":28.333333333333332},null,{"$f":"Q$3","v":170},113.33333333333333,{"$f":"S$3+1*Start!$E$34","v":28.333333333333332}]
[170,0,{"$f":"C$3+2*Start!$E$34","v":56.666666666666664},null,170,28.333333333333332,{"$f":"G$3+2*Start!$E$34","v":56.666666666666664},null,170,56.666666666666664,{"$f":"K$3+2*Start!$E$34","v":56.666666666666664},null,170,85,{"$f":"O$3+2*Start!$E$34","v":56.666666666666664},null,170,113.33333333333333,{"$f":"S$3+2*Start!$E$34","v":56.666666666666664}]
[170,0,{"$f":"C$3+3*Start!$E$34","v":85},null,170,28.333333333333332,{"$f":"G$3+3*Start!$E$34","v":85},null,170,56.666666666666664,{"$f":"K$3+3*Start!$E$34","v":85},null,170,85,{"$f":"O$3+3*Start!$E$34","v":85},null,170,113.33333333333333,{"$f":"S$3+3*Start!$E$34","v":85}]
[170,0,{"$f":"C$3+4*Start!$E$34","v":113.33333333333333},null,170,28.333333333333332,{"$f":"G$3+4*Start!$E$34","v":113.33333333333333},null,170,56.666666666666664,{"$f":"K$3+4*Start!$E$34","v":113.33333333333333},null,170,85,{"$f":"O$3+4*Start!$E$34","v":113.33333333333333},null,170,113.33333333333333,{"$f":"S$3+4*Start!$E$34","v":113.33333333333333}]
[170,0,{"$f":"C$3+5*Start!$E$34","v":141.66666666666666},null,170,28.333333333333332,{"$f":"G$3+5*Start!$E$34","v":141.66666666666666},null,170,56.666666666666664,{"$f":"K$3+5*Start!$E$34","v":141.66666666666666},null,170,85,{"$f":"O$3+5*Start!$E$34","v":141.66666666666666},null,170,113.33333333333333,{"$f":"S$3+5*Start!$E$34","v":141.66666666666666}]
[170,0,{"$f":"C$3+6*Start!$E$34","v":170},null,170,28.333333333333332,{"$f":"G$3+6*Start!$E$34","v":170},null,170,56.666666666666664,{"$f":"K$3+6*Start!$E$34","v":170},null,170,85,{"$f":"O$3+6*Start!$E$34","v":170},null,170,113.33333333333333,{"$f":"S$3+6*Start!$E$34","v":170}]
[170,0,{"$f":"C$3+7*Start!$E$34","v":198.33333333333331},null,170,28.333333333333332,{"$f":"G$3+7*Start!$E$34","v":198.33333333333331},null,170,56.666666666666664,{"$f":"K$3+7*Start!$E$34","v":198.33333333333331},null,170,85,{"$f":"O$3+7*Start!$E$34","v":198.33333333333331},null,170,113.33333333333333,{"$f":"S$3+7*Start!$E$34","v":198.33333333333331}]
[170,0,{"$f":"C$3+8*Start!$E$34","v":226.66666666666666},null,170,28.333333333333332,{"$f":"G$3+8*Start!$E$34","v":226.66666666666666},null,170,56.666666666666664,{"$f":"K$3+8*Start!$E$34","v":226.66666666666666},null,170,85,{"$f":"O$3+8*Start!$E$34","v":226.66666666666666},null,170,113.33333333333333,{"$f":"S$3+8*Start!$E$34","v":226.66666666666666}]
[170,0,{"$f":"C$3+9*Start!$E$34","v":255},null,170,28.333333333333332,{"$f":"G$3+9*Start!$E$34","v":255},null,170,56.666666666666664,{"$f":"K$3+9*Start!$E$34","v":255},null,170,85,{"$f":"O$3+9*Start!$E$34","v":255},null,170,113.33333333333333,{"$f":"S$3+9*Start!$E$34","v":255}]
[]
[]
[{"$f":"$A$2","v":"Rot"},{"$f":"$B$2","v":"Grün"},{"$f":"$C$2","v":"Blau"},null,{"$f":"$A$2","v":"Rot"},{"$f":"$B$2","v":"Grün"},{"$f":"$C$2","v":"Blau"},null,{"$f":"$A$2","v":"Rot"},{"$f":"$B$2","v":"Grün"},{"$f":"$C$2","v":"Blau"},null,{"$f":"$A$2","v":"Rot"},{"$f":"$B$2","v":"Grün"},{"$f":"$C$2","v":"Blau"},null,{"$f":"$A$2","v":"Rot"},{"$f":"$B$2","v":"Grün"},{"$f":"$C$2","v":"Blau"}]
[{"$f":"$A$3","v":170},{"$f":"Start!$D$31+5*Start!$D$34","v":141.66666666666666},{"$f":"$C$3","v":0},null,{"$f":"$A$3","v":170},{"$f":"Start!$D$31+6*Start!$D$34","v":170},{"$f":"$C$3","v":0},null,{"$f":"$A$3","v":170},{"$f":"Start!$D$31+7*Start!$D$34","v":198.33333333333331},{"$f":"$C$3","v":0},null,{"$f":"$A$3","v":170},{"$f":"Start!$D$31+8*Start!$D$34","v":226.66666666666666},{"$f":"$C$3","v":0},null,{"$f":"$A$3","v":170},{"$f":"Start!$D$31+9*Start!$D$34","v":255},{"$f":"$C$3","v":0}]
[]
[{"$f":"A$18","v":170},{"$f":"B$18","v":141.66666666666666},{"$f":"C$3+0*Start!$E$34","v":0},null,{"$f":"E$18","v":170},{"$f":"F$18","v":170},{"$f":"G$3+0*Start!$E$34","v":0},null,{"$f":"I$18","v":170},{"$f":"J$18","v":198.33333333333331},{"$f":"K$3+0*Start!$E$34","v":0},null,{"$f":"M$18","v":170},{"$f":"N$18","v":226.66666666666666},{"$f":"O$3+0*Start!$E$34","v":0},null,{"$f":"Q$18","v":170},{"$f":"R$18","v":255},{"$f":"S$3+0*Start!$E$34","v":0}]
[{"$f":"A$18","v":170},141.66666666666666,{"$f":"C$3+1*Start!$E$34","v":28.333333333333332},null,{"$f":"E$18","v":170},170,{"$f":"G$3+1*Start!$E$34","v":28.333333333333332},null,{"$f":"I$18","v":170},198.33333333333331,{"$f":"K$3+1*Start!$E$34","v":28.333333333333332},null,{"$f":"M$18","v":170},226.66666666666666,{"$f":"O$3+1*Start!$E$34","v":28.333333333333332},null,{"$f":"Q$18","v":170},255,{"$f":"S$3+1*Start!$E$34","v":28.333333333333332}]
[170,141.66666666666666,{"$f":"C$3+2*Start!$E$34","v":56.666666666666664},null,170,170,{"$f":"G$3+2*Start!$E$34","v":56.666666666666664},null,170,198.33333333333331,{"$f":"K$3+2*Start!$E$34","v":56.666666666666664},null,170,226.66666666666666,{"$f":"O$3+2*Start!$E$34","v":56.666666666666664},null,170,255,{"$f":"S$3+2*Start!$E$34","v":56.666666666666664}]
[170,141.66666666666666,{"$f":"C$3+3*Start!$E$34","v":85},null,170,170,{"$f":"G$3+3*Start!$E$34","v":85},null,170,198.33333333333331,{"$f":"K$3+3*Start!$E$34","v":85},null,170,226.66666666666666,{"$f":"O$3+3*Start!$E$34","v":85},null,170,255,{"$f":"S$3+3*Start!$E$34","v":85}]
[170,141.66666666666666,{"$f":"C$3+4*Start!$E$34","v":113.33333333333333},null,170,170,{"$f":"G$3+4*Start!$E$34","v":113.33333333333333},null,170,198.33333333333331,{"$f":"K$3+4*Start!$E$34","v":113.33333333333333},null,170,226.66666666666666,{"$f":"O$3+4*Start!$E$34","v":113.33333333333333},null,170,255,{"$f":"S$3+4*Start!$E$34","v":113.33333333333333}]
[170,141.66666666666666,{"$f":"C$3+5*Start!$E$34","v":141.66666666666666},null,170,170,{"$f":"G$3+5*Start!$E$34","v":141.66666666666666},null,170,198.33333333333331,{"$f":"K$3+5*Start!$E$34","v":141.66666666666666},null,170,226.66666666666666,{"$f":"O$3+5*Start!$E$34","v":141.66666666666666},null,170,255,{"$f":"S$3+5*Start!$E$34","v":141.66666666666666}]
[170,141.66666666666666,{"$f":"C$3+6*Start!$E$34","v":170},null,170,170,{"$f":"G$3+6*Start!$E$34","v":170},null,170,198.33333333333331,{"$f":"K$3+6*Start!$E$34","v":170},null,170,226.66666666666666,{"$f":"O$3+6*Start!$E$34","v":170},null,170,255,{"$f":"S$3+6*Start!$E$34","v":170}]
[170,141.66666666666666,{"$f":"C$3+7*Start!$E$34","v":198.33333333333331},null,170,170,{"$f":"G$3+7*Start!$E$34","v":198.33333333333331},null,170,198.33333333333331,{"$f":"K$3+7*Start!$E$34","v":198.33333333333331},null,170,226.66666666666666,{"$f":"O$3+7*Start!$E$34","v":198.33333333333331},null,170,255,{"$f":"S$3+7*Start!$E$34","v":198.33333333333331}]
[170,141.66666666666666,{"$f":"C$3+8*Start!$E$34","v":226.66666666666666},null,170,170,{"$f":"G$3+8*Start!$E$34","v":226.66666666666666},null,170,198.33333333333331,{"$f":"K$3+8*Start!$E$34","v":226.66666666666666},null,170,226.66666666666666,{"$f":"O$3+8*Start!$E$34","v":226.66666666666666},null,170,255,{"$f":"S$3+8*Start!$E$34","v":226.66666666666666}]
[170,141.66666666666666,{"$f":"C$3+9*Start!$E$34","v":255},null,170,170,{"$f":"G$3+9*Start!$E$34","v":255},null,170,198.33333333333331,{"$f":"K$3+9*Start!$E$34","v":255},null,170,226.66666666666666,{"$f":"O$3+9*Start!$E$34","v":255},null,170,255,{"$f":"S$3+9*Start!$E$34","v":255}]

{"sheet":"Rot x+7i","index":8,"n_rows":29,"n_cols":19,"rows_kept":29,"cut":false,"hidden":false,"merged":[]}
[]
[{"$f":"'Rot x'!A2","v":"Rot"},{"$f":"'Rot x'!B2","v":"Grün"},{"$f":"'Rot x'!C2","v":"Blau"},null,{"$f":"$A$2","v":"Rot"},{"$f":"$B$2","v":"Grün"},{"$f":"$C$2","v":"Blau"},null,{"$f":"$A$2","v":"Rot"},{"$f":"$B$2","v":"Grün"},{"$f":"$C$2","v":"Blau"},null,{"$f":"$A$2","v":"Rot"},{"$f":"$B$2","v":"Grün"},{"$f":"$C$2","v":"Blau"},null,{"$f":"$A$2","v":"Rot"},{"$f":"$B$2","v":"Grün"},{"$f":"$C$2","v":"Blau"}]
[{"$f":"Start!$C$31+7*Start!$C$34","v":198.33333333333331},{"$f":"Start!$D$31+0*Start!$D$34","v":0},{"$f":"Start!$E$31","v":0},null,{"$f":"$A$3","v":198.33333333333331},{"$f":"Start!$D$31+1*Start!$D$34","v":28.333333333333332},{"$f":"$C$3","v":0},null,{"$f":"$A$3","v":198.33333333333331},{"$f":"Start!$D$31+2*Start!$D$34","v":56.666666666666664},{"$f":"$C$3","v":0},null,{"$f":"$A$3","v":198.33333333333331},{"$f":"Start!$D$31+3*Start!$D$34","v":85},{"$f":"$C$3","v":0},null,{"$f":"$A$3","v":198.33333333333331},{"$f":"Start!$D$31+4*Start!$D$34","v":113.33333333333333},{"$f":"$C$3","v":0}]
[]
[{"$f":"A$3","v":198.33333333333331},{"$f":"B$3","v":0},{"$f":"C$3+0*Start!$E$34","v":0},null,{"$f":"E$3","v":198.33333333333331},{"$f":"F$3","v":28.333333333333332},{"$f":"G$3+0*Start!$E$34","v":0},null,{"$f":"I$3","v":198.33333333333331},{"$f":"J$3","v":56.666666666666664},{"$f":"K$3+0*Start!$E$34","v":0},null,{"$f":"M$3","v":198.33333333333331},{"$f":"N$3","v":85},{"$f":"O$3+0*Start!$E$34","v":0},null,{"$f":"Q$3","v":198.33333333333331},{"$f":"R$3","v":113.33333333333333},{"$f":"S$3+0*Start!$E$34","v":0}]
[{"$f":"A$3","v":198.33333333333331},0,{"$f":"C$3+1*Start!$E$34","v":28.333333333333332},null,{"$f":"E$3","v":198.33333333333331},28.333333333333332,{"$f":"G$3+1*Start!$E$34","v":28.333333333333332},null,{"$f":"I$3","v":198.33333333333331},56.666666666666664,{"$f":"K$3+1*Start!$E$34","v":28.333333333333332},null,{"$f":"M$3","v":198.33333333333331},85,{"$f":"O$3+1*Start!$E$34","v":28.333333333333332},null,{"$f":"Q$3","v":198.33333333333331},113.33333333333333,{"$f":"S$3+1*Start!$E$34","v":28.333333333333332}]
[198.33333333333331,0,{"$f":"C$3+2*Start!$E$34","v":56.666666666666664},null,198.33333333333331,28.333333333333332,{"$f":"G$3+2*Start!$E$34","v":56.666666666666664},null,198.33333333333331,56.666666666666664,{"$f":"K$3+2*Start!$E$34","v":56.666666666666664},null,198.33333333333331,85,{"$f":"O$3+2*Start!$E$34","v":56.666666666666664},null,198.33333333333331,113.33333333333333,{"$f":"S$3+2*Start!$E$34","v":56.666666666666664}]
[198.33333333333331,0,{"$f":"C$3+3*Start!$E$34","v":85},null,198.33333333333331,28.333333333333332,{"$f":"G$3+3*Start!$E$34","v":85},null,198.33333333333331,56.666666666666664,{"$f":"K$3+3*Start!$E$34","v":85},null,198.33333333333331,85,{"$f":"O$3+3*Start!$E$34","v":85},null,198.33333333333331,113.33333333333333,{"$f":"S$3+3*Start!$E$34","v":85}]
[198.33333333333331,0,{"$f":"C$3+4*Start!$E$34","v":113.33333333333333},null,198.33333333333331,28.333333333333332,{"$f":"G$3+4*Start!$E$34","v":113.33333333333333},null,198.33333333333331,56.666666666666664,{"$f":"K$3+4*Start!$E$34","v":113.33333333333333},null,198.33333333333331,85,{"$f":"O$3+4*Start!$E$34","v":113.33333333333333},null,198.33333333333331,113.33333333333333,{"$f":"S$3+4*Start!$E$34","v":113.33333333333333}]
[198.33333333333331,0,{"$f":"C$3+5*Start!$E$34","v":141.66666666666666},null,198.33333333333331,28.333333333333332,{"$f":"G$3+5*Start!$E$34","v":141.66666666666666},null,198.33333333333331,56.666666666666664,{"$f":"K$3+5*Start!$E$34","v":141.66666666666666},null,198.33333333333331,85,{"$f":"O$3+5*Start!$E$34","v":141.66666666666666},null,198.33333333333331,113.33333333333333,{"$f":"S$3+5*Start!$E$34","v":141.66666666666666}]
[198.33333333333331,0,{"$f":"C$3+6*Start!$E$34","v":170},null,198.33333333333331,28.333333333333332,{"$f":"G$3+6*Start!$E$34","v":170},null,198.33333333333331,56.666666666666664,{"$f":"K$3+6*Start!$E$34","v":170},null,198.33333333333331,85,{"$f":"O$3+6*Start!$E$34","v":170},null,198.33333333333331,113.33333333333333,{"$f":"S$3+6*Start!$E$34","v":170}]
[198.33333333333331,0,{"$f":"C$3+7*Start!$E$34","v":198.33333333333331},null,198.33333333333331,28.333333333333332,{"$f":"G$3+7*Start!$E$34","v":198.33333333333331},null,198.33333333333331,56.666666666666664,{"$f":"K$3+7*Start!$E$34","v":198.33333333333331},null,198.33333333333331,85,{"$f":"O$3+7*Start!$E$34","v":198.33333333333331},null,198.33333333333331,113.33333333333333,{"$f":"S$3+7*Start!$E$34","v":198.33333333333331}]
[198.33333333333331,0,{"$f":"C$3+8*Start!$E$34","v":226.66666666666666},null,198.33333333333331,28.333333333333332,{"$f":"G$3+8*Start!$E$34","v":226.66666666666666},null,198.33333333333331,56.666666666666664,{"$f":"K$3+8*Start!$E$34","v":226.66666666666666},null,198.33333333333331,85,{"$f":"O$3+8*Start!$E$34","v":226.66666666666666},null,198.33333333333331,113.33333333333333,{"$f":"S$3+8*Start!$E$34","v":226.66666666666666}]
[198.33333333333331,0,{"$f":"C$3+9*Start!$E$34","v":255},null,198.33333333333331,28.333333333333332,{"$f":"G$3+9*Start!$E$34","v":255},null,198.33333333333331,56.666666666666664,{"$f":"K$3+9*Start!$E$34","v":255},null,198.33333333333331,85,{"$f":"O$3+9*Start!$E$34","v":255},null,198.33333333333331,113.33333333333333,{"$f":"S$3+9*Start!$E$34","v":255}]
[]
[]
[{"$f":"$A$2","v":"Rot"},{"$f":"$B$2","v":"Grün"},{"$f":"$C$2","v":"Blau"},null,{"$f":"$A$2","v":"Rot"},{"$f":"$B$2","v":"Grün"},{"$f":"$C$2","v":"Blau"},null,{"$f":"$A$2","v":"Rot"},{"$f":"$B$2","v":"Grün"},{"$f":"$C$2","v":"Blau"},null,{"$f":"$A$2","v":"Rot"},{"$f":"$B$2","v":"Grün"},{"$f":"$C$2","v":"Blau"},null,{"$f":"$A$2","v":"Rot"},{"$f":"$B$2","v":"Grün"},{"$f":"$C$2","v":"Blau"}]
[{"$f":"$A$3","v":198.33333333333331},{"$f":"Start!$D$31+5*Start!$D$34","v":141.66666666666666},{"$f":"$C$3","v":0},null,{"$f":"$A$3","v":198.33333333333331},{"$f":"Start!$D$31+6*Start!$D$34","v":170},{"$f":"$C$3","v":0},null,{"$f":"$A$3","v":198.33333333333331},{"$f":"Start!$D$31+7*Start!$D$34","v":198.33333333333331},{"$f":"$C$3","v":0},null,{"$f":"$A$3","v":198.33333333333331},{"$f":"Start!$D$31+8*Start!$D$34","v":226.66666666666666},{"$f":"$C$3","v":0},null,{"$f":"$A$3","v":198.33333333333331},{"$f":"Start!$D$31+9*Start!$D$34","v":255},{"$f":"$C$3","v":0}]
[]
[{"$f":"A$18","v":198.33333333333331},{"$f":"B$18","v":141.66666666666666},{"$f":"C$3+0*Start!$E$34","v":0},null,{"$f":"E$18","v":198.33333333333331},{"$f":"F$18","v":170},{"$f":"G$3+0*Start!$E$34","v":0},null,{"$f":"I$18","v":198.33333333333331},{"$f":"J$18","v":198.33333333333331},{"$f":"K$3+0*Start!$E$34","v":0},null,{"$f":"M$18","v":198.33333333333331},{"$f":"N$18","v":226.66666666666666},{"$f":"O$3+0*Start!$E$34","v":0},null,{"$f":"Q$18","v":198.33333333333331},{"$f":"R$18","v":255},{"$f":"S$3+0*Start!$E$34","v":0}]
[{"$f":"A$18","v":198.33333333333331},141.66666666666666,{"$f":"C$3+1*Start!$E$34","v":28.333333333333332},null,{"$f":"E$18","v":198.33333333333331},170,{"$f":"G$3+1*Start!$E$34","v":28.333333333333332},null,{"$f":"I$18","v":198.33333333333331},198.33333333333331,{"$f":"K$3+1*Start!$E$34","v":28.333333333333332},null,{"$f":"M$18","v":198.33333333333331},226.66666666666666,{"$f":"O$3+1*Start!$E$34","v":28.333333333333332},null,{"$f":"Q$18","v":198.33333333333331},255,{"$f":"S$3+1*Start!$E$34","v":28.333333333333332}]
[198.33333333333331,141.66666666666666,{"$f":"C$3+2*Start!$E$34","v":56.666666666666664},null,198.33333333333331,170,{"$f":"G$3+2*Start!$E$34","v":56.666666666666664},null,198.33333333333331,198.33333333333331,{"$f":"K$3+2*Start!$E$34","v":56.666666666666664},null,198.33333333333331,226.66666666666666,{"$f":"O$3+2*Start!$E$34","v":56.666666666666664},null,198.33333333333331,255,{"$f":"S$3+2*Start!$E$34","v":56.666666666666664}]
[198.33333333333331,141.66666666666666,{"$f":"C$3+3*Start!$E$34","v":85},null,198.33333333333331,170,{"$f":"G$3+3*Start!$E$34","v":85},null,198.33333333333331,198.33333333333331,{"$f":"K$3+3*Start!$E$34","v":85},null,198.33333333333331,226.66666666666666,{"$f":"O$3+3*Start!$E$34","v":85},null,198.33333333333331,255,{"$f":"S$3+3*Start!$E$34","v":85}]
[198.33333333333331,141.66666666666666,{"$f":"C$3+4*Start!$E$34","v":113.33333333333333},null,198.33333333333331,170,{"$f":"G$3+4*Start!$E$34","v":113.33333333333333},null,198.33333333333331,198.33333333333331,{"$f":"K$3+4*Start!$E$34","v":113.33333333333333},null,198.33333333333331,226.66666666666666,{"$f":"O$3+4*Start!$E$34","v":113.33333333333333},null,198.33333333333331,255,{"$f":"S$3+4*Start!$E$34","v":113.33333333333333}]
[198.33333333333331,141.66666666666666,{"$f":"C$3+5*Start!$E$34","v":141.66666666666666},null,198.33333333333331,170,{"$f":"G$3+5*Start!$E$34","v":141.66666666666666},null,198.33333333333331,198.33333333333331,{"$f":"K$3+5*Start!$E$34","v":141.66666666666666},null,198.33333333333331,226.66666666666666,{"$f":"O$3+5*Start!$E$34","v":141.66666666666666},null,198.33333333333331,255,{"$f":"S$3+5*Start!$E$34","v":141.66666666666666}]
[198.33333333333331,141.66666666666666,{"$f":"C$3+6*Start!$E$34","v":170},null,198.33333333333331,170,{"$f":"G$3+6*Start!$E$34","v":170},null,198.33333333333331,198.33333333333331,{"$f":"K$3+6*Start!$E$34","v":170},null,198.33333333333331,226.66666666666666,{"$f":"O$3+6*Start!$E$34","v":170},null,198.33333333333331,255,{"$f":"S$3+6*Start!$E$34","v":170}]
[198.33333333333331,141.66666666666666,{"$f":"C$3+7*Start!$E$34","v":198.33333333333331},null,198.33333333333331,170,{"$f":"G$3+7*Start!$E$34","v":198.33333333333331},null,198.33333333333331,198.33333333333331,{"$f":"K$3+7*Start!$E$34","v":198.33333333333331},null,198.33333333333331,226.66666666666666,{"$f":"O$3+7*Start!$E$34","v":198.33333333333331},null,198.33333333333331,255,{"$f":"S$3+7*Start!$E$34","v":198.33333333333331}]
[198.33333333333331,141.66666666666666,{"$f":"C$3+8*Start!$E$34","v":226.66666666666666},null,198.33333333333331,170,{"$f":"G$3+8*Start!$E$34","v":226.66666666666666},null,198.33333333333331,198.33333333333331,{"$f":"K$3+8*Start!$E$34","v":226.66666666666666},null,198.33333333333331,226.66666666666666,{"$f":"O$3+8*Start!$E$34","v":226.66666666666666},null,198.33333333333331,255,{"$f":"S$3+8*Start!$E$34","v":226.66666666666666}]
[198.33333333333331,141.66666666666666,{"$f":"C$3+9*Start!$E$34","v":255},null,198.33333333333331,170,{"$f":"G$3+9*Start!$E$34","v":255},null,198.33333333333331,198.33333333333331,{"$f":"K$3+9*Start!$E$34","v":255},null,198.33333333333331,226.66666666666666,{"$f":"O$3+9*Start!$E$34","v":255},null,198.33333333333331,255,{"$f":"S$3+9*Start!$E$34","v":255}]

{"sheet":"Rot x+8i","index":9,"n_rows":29,"n_cols":19,"rows_kept":29,"cut":false,"hidden":false,"merged":[]}
[]
[{"$f":"'Rot x'!A2","v":"Rot"},{"$f":"'Rot x'!B2","v":"Grün"},{"$f":"'Rot x'!C2","v":"Blau"},null,{"$f":"$A$2","v":"Rot"},{"$f":"$B$2","v":"Grün"},{"$f":"$C$2","v":"Blau"},null,{"$f":"$A$2","v":"Rot"},{"$f":"$B$2","v":"Grün"},{"$f":"$C$2","v":"Blau"},null,{"$f":"$A$2","v":"Rot"},{"$f":"$B$2","v":"Grün"},{"$f":"$C$2","v":"Blau"},null,{"$f":"$A$2","v":"Rot"},{"$f":"$B$2","v":"Grün"},{"$f":"$C$2","v":"Blau"}]
[{"$f":"Start!$C$31+8*Start!$C$34","v":226.66666666666666},{"$f":"Start!$D$31+0*Start!$D$34","v":0},{"$f":"Start!$E$31","v":0},null,{"$f":"$A$3","v":226.66666666666666},{"$f":"Start!$D$31+1*Start!$D$34","v":28.333333333333332},{"$f":"$C$3","v":0},null,{"$f":"$A$3","v":226.66666666666666},{"$f":"Start!$D$31+2*Start!$D$34","v":56.666666666666664},{"$f":"$C$3","v":0},null,{"$f":"$A$3","v":226.66666666666666},{"$f":"Start!$D$31+3*Start!$D$34","v":85},{"$f":"$C$3","v":0},null,{"$f":"$A$3","v":226.66666666666666},{"$f":"Start!$D$31+4*Start!$D$34","v":113.33333333333333},{"$f":"$C$3","v":0}]
[]
[{"$f":"A$3","v":226.66666666666666},{"$f":"B$3","v":0},{"$f":"C$3+0*Start!$E$34","v":0},null,{"$f":"E$3","v":226.66666666666666},{"$f":"F$3","v":28.333333333333332},{"$f":"G$3+0*Start!$E$34","v":0},null,{"$f":"I$3","v":226.66666666666666},{"$f":"J$3","v":56.666666666666664},{"$f":"K$3+0*Start!$E$34","v":0},null,{"$f":"M$3","v":226.66666666666666},{"$f":"N$3","v":85},{"$f":"O$3+0*Start!$E$34","v":0},null,{"$f":"Q$3","v":226.66666666666666},{"$f":"R$3","v":113.33333333333333},{"$f":"S$3+0*Start!$E$34","v":0}]
[{"$f":"A$3","v":226.66666666666666},0,{"$f":"C$3+1*Start!$E$34","v":28.333333333333332},null,{"$f":"E$3","v":226.66666666666666},28.333333333333332,{"$f":"G$3+1*Start!$E$34","v":28.333333333333332},null,{"$f":"I$3","v":226.66666666666666},56.666666666666664,{"$f":"K$3+1*Start!$E$34","v":28.333333333333332},null,{"$f":"M$3","v":226.66666666666666},85,{"$f":"O$3+1*Start!$E$34","v":28.333333333333332},null,{"$f":"Q$3","v":226.66666666666666},113.33333333333333,{"$f":"S$3+1*Start!$E$34","v":28.333333333333332}]
[226.66666666666666,0,{"$f":"C$3+2*Start!$E$34","v":56.666666666666664},null,226.66666666666666,28.333333333333332,{"$f":"G$3+2*Start!$E$34","v":56.666666666666664},null,226.66666666666666,56.666666666666664,{"$f":"K$3+2*Start!$E$34","v":56.666666666666664},null,226.66666666666666,85,{"$f":"O$3+2*Start!$E$34","v":56.666666666666664},null,226.66666666666666,113.33333333333333,{"$f":"S$3+2*Start!$E$34","v":56.666666666666664}]
[226.66666666666666,0,{"$f":"C$3+3*Start!$E$34","v":85},null,226.66666666666666,28.333333333333332,{"$f":"G$3+3*Start!$E$34","v":85},null,226.66666666666666,56.666666666666664,{"$f":"K$3+3*Start!$E$34","v":85},null,226.66666666666666,85,{"$f":"O$3+3*Start!$E$34","v":85},null,226.66666666666666,113.33333333333333,{"$f":"S$3+3*Start!$E$34","v":85}]
[226.66666666666666,0,{"$f":"C$3+4*Start!$E$34","v":113.33333333333333},null,226.66666666666666,28.333333333333332,{"$f":"G$3+4*Start!$E$34","v":113.33333333333333},null,226.66666666666666,56.666666666666664,{"$f":"K$3+4*Start!$E$34","v":113.33333333333333},null,226.66666666666666,85,{"$f":"O$3+4*Start!$E$34","v":113.33333333333333},null,226.66666666666666,113.33333333333333,{"$f":"S$3+4*Start!$E$34","v":113.33333333333333}]
[226.66666666666666,0,{"$f":"C$3+5*Start!$E$34","v":141.66666666666666},null,226.66666666666666,28.333333333333332,{"$f":"G$3+5*Start!$E$34","v":141.66666666666666},null,226.66666666666666,56.666666666666664,{"$f":"K$3+5*Start!$E$34","v":141.66666666666666},null,226.66666666666666,85,{"$f":"O$3+5*Start!$E$34","v":141.66666666666666},null,226.66666666666666,113.33333333333333,{"$f":"S$3+5*Start!$E$34","v":141.66666666666666}]
[226.66666666666666,0,{"$f":"C$3+6*Start!$E$34","v":170},null,226.66666666666666,28.333333333333332,{"$f":"G$3+6*Start!$E$34","v":170},null,226.66666666666666,56.666666666666664,{"$f":"K$3+6*Start!$E$34","v":170},null,226.66666666666666,85,{"$f":"O$3+6*Start!$E$34","v":170},null,226.66666666666666,113.33333333333333,{"$f":"S$3+6*Start!$E$34","v":170}]
[226.66666666666666,0,{"$f":"C$3+7*Start!$E$34","v":198.33333333333331},null,226.66666666666666,28.333333333333332,{"$f":"G$3+7*Start!$E$34","v":198.33333333333331},null,226.66666666666666,56.666666666666664,{"$f":"K$3+7*Start!$E$34","v":198.33333333333331},null,226.66666666666666,85,{"$f":"O$3+7*Start!$E$34","v":198.33333333333331},null,226.66666666666666,113.33333333333333,{"$f":"S$3+7*Start!$E$34","v":198.33333333333331}]
[226.66666666666666,0,{"$f":"C$3+8*Start!$E$34","v":226.66666666666666},null,226.66666666666666,28.333333333333332,{"$f":"G$3+8*Start!$E$34","v":226.66666666666666},null,226.66666666666666,56.666666666666664,{"$f":"K$3+8*Start!$E$34","v":226.66666666666666},null,226.66666666666666,85,{"$f":"O$3+8*Start!$E$34","v":226.66666666666666},null,226.66666666666666,113.33333333333333,{"$f":"S$3+8*Start!$E$34","v":226.66666666666666}]
[226.66666666666666,0,{"$f":"C$3+9*Start!$E$34","v":255},null,226.66666666666666,28.333333333333332,{"$f":"G$3+9*Start!$E$34","v":255},null,226.66666666666666,56.666666666666664,{"$f":"K$3+9*Start!$E$34","v":255},null,226.66666666666666,85,{"$f":"O$3+9*Start!$E$34","v":255},null,226.66666666666666,113.33333333333333,{"$f":"S$3+9*Start!$E$34","v":255}]
[]
[]
[{"$f":"$A$2","v":"Rot"},{"$f":"$B$2","v":"Grün"},{"$f":"$C$2","v":"Blau"},null,{"$f":"$A$2","v":"Rot"},{"$f":"$B$2","v":"Grün"},{"$f":"$C$2","v":"Blau"},null,{"$f":"$A$2","v":"Rot"},{"$f":"$B$2","v":"Grün"},{"$f":"$C$2","v":"Blau"},null,{"$f":"$A$2","v":"Rot"},{"$f":"$B$2","v":"Grün"},{"$f":"$C$2","v":"Blau"},null,{"$f":"$A$2","v":"Rot"},{"$f":"$B$2","v":"Grün"},{"$f":"$C$2","v":"Blau"}]
[{"$f":"$A$3","v":226.66666666666666},{"$f":"Start!$D$31+5*Start!$D$34","v":141.66666666666666},{"$f":"$C$3","v":0},null,{"$f":"$A$3","v":226.66666666666666},{"$f":"Start!$D$31+6*Start!$D$34","v":170},{"$f":"$C$3","v":0},null,{"$f":"$A$3","v":226.66666666666666},{"$f":"Start!$D$31+7*Start!$D$34","v":198.33333333333331},{"$f":"$C$3","v":0},null,{"$f":"$A$3","v":226.66666666666666},{"$f":"Start!$D$31+8*Start!$D$34","v":226.66666666666666},{"$f":"$C$3","v":0},null,{"$f":"$A$3","v":226.66666666666666},{"$f":"Start!$D$31+9*Start!$D$34","v":255},{"$f":"$C$3","v":0}]
[]
[{"$f":"A$18","v":226.66666666666666},{"$f":"B$18","v":141.66666666666666},{"$f":"C$3+0*Start!$E$34","v":0},null,{"$f":"E$18","v":226.66666666666666},{"$f":"F$18","v":170},{"$f":"G$3+0*Start!$E$34","v":0},null,{"$f":"I$18","v":226.66666666666666},{"$f":"J$18","v":198.33333333333331},{"$f":"K$3+0*Start!$E$34","v":0},null,{"$f":"M$18","v":226.66666666666666},{"$f":"N$18","v":226.66666666666666},{"$f":"O$3+0*Start!$E$34","v":0},null,{"$f":"Q$18","v":226.66666666666666},{"$f":"R$18","v":255},{"$f":"S$3+0*Start!$E$34","v":0}]
[{"$f":"A$18","v":226.66666666666666},141.66666666666666,{"$f":"C$3+1*Start!$E$34","v":28.333333333333332},null,{"$f":"E$18","v":226.66666666666666},170,{"$f":"G$3+1*Start!$E$34","v":28.333333333333332},null,{"$f":"I$18","v":226.66666666666666},198.33333333333331,{"$f":"K$3+1*Start!$E$34","v":28.333333333333332},null,{"$f":"M$18","v":226.66666666666666},226.66666666666666,{"$f":"O$3+1*Start!$E$34","v":28.333333333333332},null,{"$f":"Q$18","v":226.66666666666666},255,{"$f":"S$3+1*Start!$E$34","v":28.333333333333332}]
[226.66666666666666,141.66666666666666,{"$f":"C$3+2*Start!$E$34","v":56.666666666666664},null,226.66666666666666,170,{"$f":"G$3+2*Start!$E$34","v":56.666666666666664},null,226.66666666666666,198.33333333333331,{"$f":"K$3+2*Start!$E$34","v":56.666666666666664},null,226.66666666666666,226.66666666666666,{"$f":"O$3+2*Start!$E$34","v":56.666666666666664},null,226.66666666666666,255,{"$f":"S$3+2*Start!$E$34","v":56.666666666666664}]
[226.66666666666666,141.66666666666666,{"$f":"C$3+3*Start!$E$34","v":85},null,226.66666666666666,170,{"$f":"G$3+3*Start!$E$34","v":85},null,226.66666666666666,198.33333333333331,{"$f":"K$3+3*Start!$E$34","v":85},null,226.66666666666666,226.66666666666666,{"$f":"O$3+3*Start!$E$34","v":85},null,226.66666666666666,255,{"$f":"S$3+3*Start!$E$34","v":85}]
[226.66666666666666,141.66666666666666,{"$f":"C$3+4*Start!$E$34","v":113.33333333333333},null,226.66666666666666,170,{"$f":"G$3+4*Start!$E$34","v":113.33333333333333},null,226.66666666666666,198.33333333333331,{"$f":"K$3+4*Start!$E$34","v":113.33333333333333},null,226.66666666666666,226.66666666666666,{"$f":"O$3+4*Start!$E$34","v":113.33333333333333},null,226.66666666666666,255,{"$f":"S$3+4*Start!$E$34","v":113.33333333333333}]
[226.66666666666666,141.66666666666666,{"$f":"C$3+5*Start!$E$34","v":141.66666666666666},null,226.66666666666666,170,{"$f":"G$3+5*Start!$E$34","v":141.66666666666666},null,226.66666666666666,198.33333333333331,{"$f":"K$3+5*Start!$E$34","v":141.66666666666666},null,226.66666666666666,226.66666666666666,{"$f":"O$3+5*Start!$E$34","v":141.66666666666666},null,226.66666666666666,255,{"$f":"S$3+5*Start!$E$34","v":141.66666666666666}]
[226.66666666666666,141.66666666666666,{"$f":"C$3+6*Start!$E$34","v":170},null,226.66666666666666,170,{"$f":"G$3+6*Start!$E$34","v":170},null,226.66666666666666,198.33333333333331,{"$f":"K$3+6*Start!$E$34","v":170},null,226.66666666666666,226.66666666666666,{"$f":"O$3+6*Start!$E$34","v":170},null,226.66666666666666,255,{"$f":"S$3+6*Start!$E$34","v":170}]
[226.66666666666666,141.66666666666666,{"$f":"C$3+7*Start!$E$34","v":198.33333333333331},null,226.66666666666666,170,{"$f":"G$3+7*Start!$E$34","v":198.33333333333331},null,226.66666666666666,198.33333333333331,{"$f":"K$3+7*Start!$E$34","v":198.33333333333331},null,226.66666666666666,226.66666666666666,{"$f":"O$3+7*Start!$E$34","v":198.33333333333331},null,226.66666666666666,255,{"$f":"S$3+7*Start!$E$34","v":198.33333333333331}]
[226.66666666666666,141.66666666666666,{"$f":"C$3+8*Start!$E$34","v":226.66666666666666},null,226.66666666666666,170,{"$f":"G$3+8*Start!$E$34","v":226.66666666666666},null,226.66666666666666,198.33333333333331,{"$f":"K$3+8*Start!$E$34","v":226.66666666666666},null,226.66666666666666,226.66666666666666,{"$f":"O$3+8*Start!$E$34","v":226.66666666666666},null,226.66666666666666,255,{"$f":"S$3+8*Start!$E$34","v":226.66666666666666}]
[226.66666666666666,141.66666666666666,{"$f":"C$3+9*Start!$E$34","v":255},null,226.66666666666666,170,{"$f":"G$3+9*Start!$E$34","v":255},null,226.66666666666666,198.33333333333331,{"$f":"K$3+9*Start!$E$34","v":255},null,226.66666666666666,226.66666666666666,{"$f":"O$3+9*Start!$E$34","v":255},null,226.66666666666666,255,{"$f":"S$3+9*Start!$E$34","v":255}]

{"sheet":"Rot x+9i","index":10,"n_rows":29,"n_cols":19,"rows_kept":29,"cut":false,"hidden":false,"merged":[]}
[]
[{"$f":"'Rot x'!A2","v":"Rot"},{"$f":"'Rot x'!B2","v":"Grün"},{"$f":"'Rot x'!C2","v":"Blau"},null,{"$f":"$A$2","v":"Rot"},{"$f":"$B$2","v":"Grün"},{"$f":"$C$2","v":"Blau"},null,{"$f":"$A$2","v":"Rot"},{"$f":"$B$2","v":"Grün"},{"$f":"$C$2","v":"Blau"},null,{"$f":"$A$2","v":"Rot"},{"$f":"$B$2","v":"Grün"},{"$f":"$C$2","v":"Blau"},null,{"$f":"$A$2","v":"Rot"},{"$f":"$B$2","v":"Grün"},{"$f":"$C$2","v":"Blau"}]
[{"$f":"Start!$C$31+9*Start!$C$34","v":255},{"$f":"Start!$D$31+0*Start!$D$34","v":0},{"$f":"Start!$E$31","v":0},null,{"$f":"$A$3","v":255},{"$f":"Start!$D$31+1*Start!$D$34","v":28.333333333333332},{"$f":"$C$3","v":0},null,{"$f":"$A$3","v":255},{"$f":"Start!$D$31+2*Start!$D$34","v":56.666666666666664},{"$f":"$C$3","v":0},null,{"$f":"$A$3","v":255},{"$f":"Start!$D$31+3*Start!$D$34","v":85},{"$f":"$C$3","v":0},null,{"$f":"$A$3","v":255},{"$f":"Start!$D$31+4*Start!$D$34","v":113.33333333333333},{"$f":"$C$3","v":0}]
[]
[{"$f":"A$3","v":255},{"$f":"B$3","v":0},{"$f":"C$3+0*Start!$E$34","v":0},null,{"$f":"E$3","v":255},{"$f":"F$3","v":28.333333333333332},{"$f":"G$3+0*Start!$E$34","v":0},null,{"$f":"I$3","v":255},{"$f":"J$3","v":56.666666666666664},{"$f":"K$3+0*Start!$E$34","v":0},null,{"$f":"M$3","v":255},{"$f":"N$3","v":85},{"$f":"O$3+0*Start!$E$34","v":0},null,{"$f":"Q$3","v":255},{"$f":"R$3","v":113.33333333333333},{"$f":"S$3+0*Start!$E$34","v":0}]
[{"$f":"A$3","v":255},0,{"$f":"C$3+1*Start!$E$34","v":28.333333333333332},null,{"$f":"E$3","v":255},28.333333333333332,{"$f":"G$3+1*Start!$E$34","v":28.333333333333332},null,{"$f":"I$3","v":255},56.666666666666664,{"$f":"K$3+1*Start!$E$34","v":28.333333333333332},null,{"$f":"M$3","v":255},85,{"$f":"O$3+1*Start!$E$34","v":28.333333333333332},null,{"$f":"Q$3","v":255},113.33333333333333,{"$f":"S$3+1*Start!$E$34","v":28.333333333333332}]
[255,0,{"$f":"C$3+2*Start!$E$34","v":56.666666666666664},null,255,28.333333333333332,{"$f":"G$3+2*Start!$E$34","v":56.666666666666664},null,255,56.666666666666664,{"$f":"K$3+2*Start!$E$34","v":56.666666666666664},null,255,85,{"$f":"O$3+2*Start!$E$34","v":56.666666666666664},null,255,113.33333333333333,{"$f":"S$3+2*Start!$E$34","v":56.666666666666664}]
[255,0,{"$f":"C$3+3*Start!$E$34","v":85},null,255,28.333333333333332,{"$f":"G$3+3*Start!$E$34","v":85},null,255,56.666666666666664,{"$f":"K$3+3*Start!$E$34","v":85},null,255,85,{"$f":"O$3+3*Start!$E$34","v":85},null,255,113.33333333333333,{"$f":"S$3+3*Start!$E$34","v":85}]
[255,0,{"$f":"C$3+4*Start!$E$34","v":113.33333333333333},null,255,28.333333333333332,{"$f":"G$3+4*Start!$E$34","v":113.33333333333333},null,255,56.666666666666664,{"$f":"K$3+4*Start!$E$34","v":113.33333333333333},null,255,85,{"$f":"O$3+4*Start!$E$34","v":113.33333333333333},null,255,113.33333333333333,{"$f":"S$3+4*Start!$E$34","v":113.33333333333333}]
[255,0,{"$f":"C$3+5*Start!$E$34","v":141.66666666666666},null,255,28.333333333333332,{"$f":"G$3+5*Start!$E$34","v":141.66666666666666},null,255,56.666666666666664,{"$f":"K$3+5*Start!$E$34","v":141.66666666666666},null,255,85,{"$f":"O$3+5*Start!$E$34","v":141.66666666666666},null,255,113.33333333333333,{"$f":"S$3+5*Start!$E$34","v":141.66666666666666}]
[255,0,{"$f":"C$3+6*Start!$E$34","v":170},null,255,28.333333333333332,{"$f":"G$3+6*Start!$E$34","v":170},null,255,56.666666666666664,{"$f":"K$3+6*Start!$E$34","v":170},null,255,85,{"$f":"O$3+6*Start!$E$34","v":170},null,255,113.33333333333333,{"$f":"S$3+6*Start!$E$34","v":170}]
[255,0,{"$f":"C$3+7*Start!$E$34","v":198.33333333333331},null,255,28.333333333333332,{"$f":"G$3+7*Start!$E$34","v":198.33333333333331},null,255,56.666666666666664,{"$f":"K$3+7*Start!$E$34","v":198.33333333333331},null,255,85,{"$f":"O$3+7*Start!$E$34","v":198.33333333333331},null,255,113.33333333333333,{"$f":"S$3+7*Start!$E$34","v":198.33333333333331}]
[255,0,{"$f":"C$3+8*Start!$E$34","v":226.66666666666666},null,255,28.333333333333332,{"$f":"G$3+8*Start!$E$34","v":226.66666666666666},null,255,56.666666666666664,{"$f":"K$3+8*Start!$E$34","v":226.66666666666666},null,255,85,{"$f":"O$3+8*Start!$E$34","v":226.66666666666666},null,255,113.33333333333333,{"$f":"S$3+8*Start!$E$34","v":226.66666666666666}]
[255,0,{"$f":"C$3+9*Start!$E$34","v":255},null,255,28.333333333333332,{"$f":"G$3+9*Start!$E$34","v":255},null,255,56.666666666666664,{"$f":"K$3+9*Start!$E$34","v":255},null,255,85,{"$f":"O$3+9*Start!$E$34","v":255},null,255,113.33333333333333,{"$f":"S$3+9*Start!$E$34","v":255}]
[]
[]
[{"$f":"$A$2","v":"Rot"},{"$f":"$B$2","v":"Grün"},{"$f":"$C$2","v":"Blau"},null,{"$f":"$A$2","v":"Rot"},{"$f":"$B$2","v":"Grün"},{"$f":"$C$2","v":"Blau"},null,{"$f":"$A$2","v":"Rot"},{"$f":"$B$2","v":"Grün"},{"$f":"$C$2","v":"Blau"},null,{"$f":"$A$2","v":"Rot"},{"$f":"$B$2","v":"Grün"},{"$f":"$C$2","v":"Blau"},null,{"$f":"$A$2","v":"Rot"},{"$f":"$B$2","v":"Grün"},{"$f":"$C$2","v":"Blau"}]
[{"$f":"$A$3","v":255},{"$f":"Start!$D$31+5*Start!$D$34","v":141.66666666666666},{"$f":"$C$3","v":0},null,{"$f":"$A$3","v":255},{"$f":"Start!$D$31+6*Start!$D$34","v":170},{"$f":"$C$3","v":0},null,{"$f":"$A$3","v":255},{"$f":"Start!$D$31+7*Start!$D$34","v":198.33333333333331},{"$f":"$C$3","v":0},null,{"$f":"$A$3","v":255},{"$f":"Start!$D$31+8*Start!$D$34","v":226.66666666666666},{"$f":"$C$3","v":0},null,{"$f":"$A$3","v":255},{"$f":"Start!$D$31+9*Start!$D$34","v":255},{"$f":"$C$3","v":0}]
[]
[{"$f":"A$18","v":255},{"$f":"B$18","v":141.66666666666666},{"$f":"C$3+0*Start!$E$34","v":0},null,{"$f":"E$18","v":255},{"$f":"F$18","v":170},{"$f":"G$3+0*Start!$E$34","v":0},null,{"$f":"I$18","v":255},{"$f":"J$18","v":198.33333333333331},{"$f":"K$3+0*Start!$E$34","v":0},null,{"$f":"M$18","v":255},{"$f":"N$18","v":226.66666666666666},{"$f":"O$3+0*Start!$E$34","v":0},null,{"$f":"Q$18","v":255},{"$f":"R$18","v":255},{"$f":"S$3+0*Start!$E$34","v":0}]
[{"$f":"A$18","v":255},141.66666666666666,{"$f":"C$3+1*Start!$E$34","v":28.333333333333332},null,{"$f":"E$18","v":255},170,{"$f":"G$3+1*Start!$E$34","v":28.333333333333332},null,{"$f":"I$18","v":255},198.33333333333331,{"$f":"K$3+1*Start!$E$34","v":28.333333333333332},null,{"$f":"M$18","v":255},226.66666666666666,{"$f":"O$3+1*Start!$E$34","v":28.333333333333332},null,{"$f":"Q$18","v":255},255,{"$f":"S$3+1*Start!$E$34","v":28.333333333333332}]
[255,141.66666666666666,{"$f":"C$3+2*Start!$E$34","v":56.666666666666664},null,255,170,{"$f":"G$3+2*Start!$E$34","v":56.666666666666664},null,255,198.33333333333331,{"$f":"K$3+2*Start!$E$34","v":56.666666666666664},null,255,226.66666666666666,{"$f":"O$3+2*Start!$E$34","v":56.666666666666664},null,255,255,{"$f":"S$3+2*Start!$E$34","v":56.666666666666664}]
[255,141.66666666666666,{"$f":"C$3+3*Start!$E$34","v":85},null,255,170,{"$f":"G$3+3*Start!$E$34","v":85},null,255,198.33333333333331,{"$f":"K$3+3*Start!$E$34","v":85},null,255,226.66666666666666,{"$f":"O$3+3*Start!$E$34","v":85},null,255,255,{"$f":"S$3+3*Start!$E$34","v":85}]
[255,141.66666666666666,{"$f":"C$3+4*Start!$E$34","v":113.33333333333333},null,255,170,{"$f":"G$3+4*Start!$E$34","v":113.33333333333333},null,255,198.33333333333331,{"$f":"K$3+4*Start!$E$34","v":113.33333333333333},null,255,226.66666666666666,{"$f":"O$3+4*Start!$E$34","v":113.33333333333333},null,255,255,{"$f":"S$3+4*Start!$E$34","v":113.33333333333333}]
[255,141.66666666666666,{"$f":"C$3+5*Start!$E$34","v":141.66666666666666},null,255,170,{"$f":"G$3+5*Start!$E$34","v":141.66666666666666},null,255,198.33333333333331,{"$f":"K$3+5*Start!$E$34","v":141.66666666666666},null,255,226.66666666666666,{"$f":"O$3+5*Start!$E$34","v":141.66666666666666},null,255,255,{"$f":"S$3+5*Start!$E$34","v":141.66666666666666}]
[255,141.66666666666666,{"$f":"C$3+6*Start!$E$34","v":170},null,255,170,{"$f":"G$3+6*Start!$E$34","v":170},null,255,198.33333333333331,{"$f":"K$3+6*Start!$E$34","v":170},null,255,226.66666666666666,{"$f":"O$3+6*Start!$E$34","v":170},null,255,255,{"$f":"S$3+6*Start!$E$34","v":170}]
[255,141.66666666666666,{"$f":"C$3+7*Start!$E$34","v":198.33333333333331},null,255,170,{"$f":"G$3+7*Start!$E$34","v":198.33333333333331},null,255,198.33333333333331,{"$f":"K$3+7*Start!$E$34","v":198.33333333333331},null,255,226.66666666666666,{"$f":"O$3+7*Start!$E$34","v":198.33333333333331},null,255,255,{"$f":"S$3+7*Start!$E$34","v":198.33333333333331}]
[255,141.66666666666666,{"$f":"C$3+8*Start!$E$34","v":226.66666666666666},null,255,170,{"$f":"G$3+8*Start!$E$34","v":226.66666666666666},null,255,198.33333333333331,{"$f":"K$3+8*Start!$E$34","v":226.66666666666666},null,255,226.66666666666666,{"$f":"O$3+8*Start!$E$34","v":226.66666666666666},null,255,255,{"$f":"S$3+8*Start!$E$34","v":226.66666666666666}]
[255,141.66666666666666,{"$f":"C$3+9*Start!$E$34","v":255},null,255,170,{"$f":"G$3+9*Start!$E$34","v":255},null,255,198.33333333333331,{"$f":"K$3+9*Start!$E$34","v":255},null,255,226.66666666666666,{"$f":"O$3+9*Start!$E$34","v":255},null,255,255,{"$f":"S$3+9*Start!$E$34","v":255}]