Workbook
Name Ansprechpartner: Eingabe!$B$5
Name Ansprechperson: Eingabe!$B$5
Name BIC: Eingabe!#REF!
Name bis: Eingabe!$E$28
Name EMail: Eingabe!$B$25
Name Fachbereich: Eingabe!$B$14
Name Fakultät: Eingabe!$B$13
Name Hausnummer: Eingabe!$B$7
Name IBAN: Eingabe!#REF!
Name Kontaktnachname: Eingabe!$B$23
Name Kontaktvorname: Eingabe!$B$22
Name Kontoinhaber: Eingabe!#REF!
Name Kreditinstitut: Eingabe!#REF!
Name Name: Eingabe!$B$4
Name Ort: Eingabe!$B$10
Name Overhead: Listen!$C$2
Name Personalmittel: Listen!$A$2:$A$9
Name PLZ: Eingabe!$B$9
Name Projektleiter: Eingabe!$B$20
Name Projekttitel: Eingabe!$B$27
Name PSP: Eingabe!$F$59
Name Sachmittel: Listen!$B$2:$B$8
Name Strasse: Eingabe!$B$6
Name Telefon: Eingabe!$B$24
Name Titel: Eingabe!$B$18
Name Verwendungszweck: Eingabe!$B$59
Name von: Eingabe!$B$28
Name Vorname: Eingabe!$B$19

Sheet Eingabe
A1: MITTELANFORDERUNG
A3: Empfänger
A4: Organisation / Firma / Stiftung
A5: Ansprechperson
A6: Strasse
A7: Hausnummer
A8: Adresszusatz
A9: PLZ
A10: Ort
A12: Absender
A13: Fakultät / Zentrale Einrichtung | G13: =IF(OR(B13="",B14=""),"",IF(COUNTIFS(Listen!$D$2:$D$1000,B13,Listen!$E$2:$E$1000,B14)>0,"OK","FEHLER: Fachbereich passt nicht zur Fakultät"))
A14: Fachbereich
A15: Institut
A16: Lehrstuhl
A17: Abteilung
A18: Titel (PL)
A19: Vorname (PL)
A20: Nachname (PL)
A21: Ansprechparter:
A22: Vorname
A23: Nachname
A24: Telefon
A25: E-Mail
... A28: Mittelanforderung für den Zeitraum:
A31: Personalmittel | E31: Betrag
F32: =IF(AND(A32="",E32=""),"",IF(OR(A32="",E32=""),"FEHLER","OK"))
F33: =IF(AND(A33="",E33=""),"",IF(OR(A33="",E33=""),"FEHLER","OK"))
F34: =IF(AND(A34="",E34=""),"",IF(OR(A34="",E34=""),"FEHLER","OK"))
F35: =IF(AND(A35="",E35=""),"",IF(OR(A35="",E35=""),"FEHLER","OK"))
F36: =IF(AND(A36="",E36=""),"",IF(OR(A36="",E36=""),"FEHLER","OK"))
F37: =IF(AND(A37="",E37=""),"",IF(OR(A37="",E37=""),"FEHLER","OK"))
F38: =IF(AND(A38="",E38=""),"",IF(OR(A38="",E38=""),"FEHLER","OK"))
F39: =IF(AND(A39="",E39=""),"",IF(OR(A39="",E39=""),"FEHLER","OK"))
A40: Summe Personalmittel | E40: =SUM(E32:E39) -> 0
A42: Sachmittel | E42: Betrag
F43: =IF(AND(A43="",E43=""),"",IF(OR(A43="",E43=""),"Fehler","OK"))
F44: =IF(AND(A44="",E44=""),"",IF(OR(A44="",E44=""),"Fehler","OK"))
F45: =IF(AND(A45="",E45=""),"",IF(OR(A45="",E45=""),"Fehler","OK"))
F46: =IF(AND(A46="",E46=""),"",IF(OR(A46="",E46=""),"Fehler","OK"))
F47: =IF(AND(A47="",E47=""),"",IF(OR(A47="",E47=""),"Fehler","OK"))
...

Sheet Druckformular
B5: Universität Tübingen - Geschwister-Scholl-Platz - 72074 Tübingen | F5: =Fachbereich -> 0
B7: {=Name} -> 0 | F7: {=_xlfn.LET(_xlpm.daten,_xlfn.VSTACK(Eingabe!B15,Eingabe!B16,Eingabe!B17,TRIM(Eingabe!B18&" "&Eingabe!B19&" "&Eingabe!B20)),_xlpm.kontakt,_xlfn.VSTACK(Eingabe!A21,TRIM(Eingabe!B22&" "&Eingabe!B23),Eingabe!B24,Eingabe!B25),_xlfn.VSTACK(_xlfn._xlws.FILTER(_xlpm.daten,_xlpm.daten<>"",""),"",_xlfn._xlws.FILTER(_xlpm.kontakt,_xlpm.kontakt<>"","")))}
B8: {=Ansprechperson} -> 0
B9: =Eingabe!B6&" "&Eingabe!B7&IF(Eingabe!B8<>"",", "&Eingabe!B8,"") | F9: Ansprechparter:
B10: =PLZ&" "&Ort
B16: Tübingen, den | C16: =TODAY() -> 46321
C18: MITTELANFORDERUNG
B20: Förderkennzeichen/Titel: | D20: =Projekttitel -> 0
B22: Mittelanforderung für den Zeitraum: | E22: =TEXT(Eingabe!B28,"TT.MM.JJJJ")&" – "&TEXT(Eingabe!E28,"TT.MM.JJJJ") -> 00.01.1900 – 00.01.1900
B24: Höhe des voraussichtlichen Bedarfs | H24: Betrag
B27: {=INDEX(_xlfn.ANCHORARRAY(J27),0,1)} | H27: {=INDEX(_xlfn.ANCHORARRAY(J27),0,2)} | J27: {=_xlfn.LET( _xlpm.p,COUNTIF(Eingabe!F32:F39,"OK"), _xlpm.s,COUNTIF(Eingabe!F43:F49,"OK"), _xlpm.o,--IFERROR(AND(ISNUMBER(Eingabe!E55),Eingabe!E55<>0),FALSE), _xlpm.leer,_xlfn.HSTACK("",""), _xlpm.personal,IF(_xlpm.p>0,_xlfn.VSTACK(_xlfn.HSTACK("PERSONAL",""),_xlfn.HSTACK(_xlfn._xlws.FILTER(Eingabe!A32:A39,Eingabe!F32:F39="OK"),_xlfn._xlws.FILTER(Eingabe!E32:E39,Eingabe!F32:F39="OK")),_xlfn.HSTACK("Summe Personalmittel",Eingabe!E40),_xlpm.leer),_xlpm.leer), _xlpm.sachmittel,IF(_xlpm.s>0,_xlfn.VSTACK(_xlfn.HSTACK("SACHMITTEL",""),_xlfn.HSTACK(_xlfn._xlws.FILTER(Eingabe!A43:A49,Eingabe!F43:F49="OK"),_xlfn._xlws.FILTER(Eingabe!E43:E49,Eingabe!F43:F49="OK")),_xlfn.HSTACK("Summe Sachmittel",Eingabe!E50),_xlpm.leer),_xlpm.leer), _xlpm.overhead,IF(_xlpm.o=1,_xlfn.VSTACK(_xlfn.HSTACK("OVERHEAD",""),_xlfn.HSTACK(Eingabe!A53,Eingabe!E55),_xlpm.leer),_xlpm.leer), _xlpm.gesamt,_xlfn.HSTACK("GESAMTSUMME",SUM(Eingabe!E40,Eingabe!E50,IF(_xlpm.o=1,Eingabe!E55,0))), _xlfn.VSTACK(_xlpm.personal,_xlpm.sachmittel,_xlpm.overhead,_xlpm.gesamt) )}
B30: GESAMTSUMME | H30: 0 | J30: GESAMTSUMME | K30: 0
B55: Wir bitten um Überweisung des angeforderten Betrags auf das unten aufgeführte Konto.
B56: BANKVERBINDUNG
B58: Kontoinhaber: | C58: Eberhard Karls Universität Tübingen
B59: Kreditinstitut: | C59: BW-Bank Tübingen
B60: IBAN: | C60: DE24 6005 0101 7477 5036 14
B61: BIC: | C61: SOLADEST600
B63: Verwendungszweck: | D63: =PSP&" "&Verwendungszweck -> PSP
B66: Unterschrift

Sheet Listen
A1: Personalmittel | B1: Sachmittel | C1: Overhead | D1: Fakultät / Zentrale Einrichtung | E1: Fachbereich | G1: {=_xlfn._xlws.FILTER(E2:E1000,(D2:D1000=Eingabe!B13)*(E2:E1000<>""),"")}
A2: Professuren W1-W3 | B2: Reisekosten | C2: Projektpauschale | D2: Evangelisch-Theologische Fakultät | E2: Dekanat
A3: Postdoktorand*in oder Vergleichbare E14-E15 | B3: Geräte bis 10.000 €, Software, etc. | D3: Evangelisch-Theologische Fakultät | E3: Evangelisch-Theologische Fakultät
A4: Doktorand*in oder Vergleichbare E13 | B4: Geräte bis 50.000 € | D4: Katholisch-Theologische Fakultät | E4: Dekanat
A5: Hilfskräfte | B5: Geräteselbstbeschaffung über 50.000 € | D5: Katholisch-Theologische Fakultät | E5: Katholisch-Theologische Fakultät
A6: Nichtwissenschaftliche*r Mitarbeiter*in E9-E12 | B6: Publikationen | D6: Juristische Fakultät | E6: Dekanat
A7: Nichtwissenschaftliche*r Mitarbeiter*in E2-E8 | B7: Tierhaltung | D7: Juristische Fakultät | E7: Juristische Fakultät
A8: Eigene Stelle | B8: Sachausgaben (pauschal) | D8: Philosophische Fakultät | E8: Dekanat
A9: Sonst. Personalkosten | D9: Philosophische Fakultät | E9: Fachbereich Altertums- und Kunstwissenschaften
D10: Philosophische Fakultät | E10: Fachbereich Asien-Orient-Wissenschaften
D11: Philosophische Fakultät | E11: Fachbereich Geschichtswissenschaft
D12: Philosophische Fakultät | E12: Fachbereich Neuphilologie
D13: Philosophische Fakultät | E13: Fachbereich Philosophie - Rhetorik - Medien
D14: Wirtschafts- und Sozialwissenschaftliche Fakultät | E14: Dekanat
D15: Wirtschafts- und Sozialwissenschaftliche Fakultät | E15: Fachbereich Sozialwissenschaften
D16: Wirtschafts- und Sozialwissenschaftliche Fakultät | E16: Fachbereich Wirtschaftswissenschaften
D17: Mathematisch-Naturwissenschaftliche Fakultät | E17: Verwaltung und zentrale Stellen der Fakultät
D18: Mathematisch-Naturwissenschaftliche Fakultät | E18: Fachbereich Biologie
D19: Mathematisch-Naturwissenschaftliche Fakultät | E19: Fachbereich Chemie
D20: Mathematisch-Naturwissenschaftliche Fakultät | E20: Fachbereich Geowissenschaften
D21: Mathematisch-Naturwissenschaftliche Fakultät | E21: Fachbereich Informatik
... D52: Interdisziplinäre Zentren | E52: ZDG

Sheet Hilfsblatt
A2: {=_xlfn.UNIQUE(_xlfn._xlws.FILTER(Listen!D2:D1000,Listen!D2:D1000<>""))} -> Evangelisch-Theologische Fakultät | B2: {=_xlfn.UNIQUE(_xlfn._xlws.FILTER(Listen!$E$2:$E$1000,(Listen!$D$2:$D$1000=Eingabe!$B$13)*(Listen!$E$2:$E$1000<>""),""))}
A3: Katholisch-Theologische Fakultät
A4: Juristische Fakultät
A5: Philosophische Fakultät
A6: Wirtschafts- und Sozialwissenschaftliche Fakultät
A7: Mathematisch-Naturwissenschaftliche Fakultät
A8: Zentrum für Islamische Theologie
A9: Zentrale Universitätseinrichtungen
A10: Zentrale Verwaltung
A11: Interfakultäre Institute
A12: Interdisziplinäre Zentren
