Workbook

Sheet Formblatt
Q1: Dokumentenversion 1.0.0.7e - 15.04.2026
B2: University of Tübingen - Faculty of Economics and Social Sciences Fulfillment of Teaching Obligation | M2: Form 1 (Page 1) Reporting form for teaching staff
C4: Teaching person: | J4: School / Institute
C6: Fulfillment of individual teaching obligation according to LVVO | G6: WS 2026/27 | J6: Chair / Work Unit
C8: Teaching obligation | E8: SWS | J8: Research sabbatical | M8: FALSE
C9: Reduction | F9: Justification for teaching reduction
C11: Current obligation | D11: =SUM(D8,-D9) -> 0
B13: I. Information on teaching activities (according to Alma / electronic course catalog) that are part of a curriculum and were conducted as scheduled. (please report on teaching activites that did not take place as scheduled on the back or in a separate text)
B14: No. | C14: Course title | H14: applied for digital teaching? | I14: Course type | J14: crediting factor | K14: For joint teaching | N14: weekly course? | O14: Own teaching (h/semester) | P14: Own SWS
K15: No. of teachers | L15: Names of teachers | M15: interdisciplinary course?
B16: 1 | H16: FALSE | J16: =_xlfn.IFNA(VLOOKUP(I16,Tabelle2!$F$2:$G$9,2,0),0) -> 0 | P16: =IF(N16="yes", J16*O16/14, IF(N16="no",_xlfn.IFNA(VLOOKUP(B16,$B$48:$O$59,14,0),0),0)) -> 0
B17: 2 | H17: FALSE | J17: =_xlfn.IFNA(VLOOKUP(I17,Tabelle2!$F$2:$G$9,2,0),0) -> 0 | P17: =IF(N17="ja", J17*O17/14, IF(N17="nein",_xlfn.IFNA(VLOOKUP(B17,$B$48:$O$59,14,0),0),0)) -> 0
B18: 3 | H18: FALSE | J18: =_xlfn.IFNA(VLOOKUP(I18,Tabelle2!$F$2:$G$9,2,0),0) -> 0 | P18: =IF(N18="ja", J18*O18/14, IF(N18="nein",_xlfn.IFNA(VLOOKUP(B18,$B$48:$O$59,14,0),0),0)) -> 0
B19: 4 | H19: FALSE | J19: =_xlfn.IFNA(VLOOKUP(I19,Tabelle2!$F$2:$G$9,2,0),0) -> 0 | P19: =IF(N19="ja", J19*O19/14, IF(N19="nein",_xlfn.IFNA(VLOOKUP(B19,$B$48:$O$59,14,0),0),0)) -> 0
B20: 5 | H20: FALSE | J20: =_xlfn.IFNA(VLOOKUP(I20,Tabelle2!$F$2:$G$9,2,0),0) -> 0 | P20: =IF(N20="ja", J20*O20/14, IF(N20="nein",_xlfn.IFNA(VLOOKUP(B20,$B$48:$O$59,14,0),0),0)) -> 0
B21: 6 | H21: FALSE | J21: =_xlfn.IFNA(VLOOKUP(I21,Tabelle2!$F$2:$G$9,2,0),0) -> 0 | P21: =IF(N21="ja", J21*O21/14, IF(N21="nein",_xlfn.IFNA(VLOOKUP(B21,$B$48:$O$59,14,0),0),0)) -> 0
B22: 7 | H22: FALSE | J22: =_xlfn.IFNA(VLOOKUP(I22,Tabelle2!$F$2:$G$9,2,0),0) -> 0 | P22: =IF(N22="ja", J22*O22/14, IF(N22="nein",_xlfn.IFNA(VLOOKUP(B22,$B$48:$O$59,14,0),0),0)) -> 0
B23: 8 | H23: FALSE | J23: =_xlfn.IFNA(VLOOKUP(I23,Tabelle2!$F$2:$G$9,2,0),0) -> 0 | P23: =IF(N23="ja", J23*O23/14, IF(N23="nein",_xlfn.IFNA(VLOOKUP(B23,$B$48:$O$59,14,0),0),0)) -> 0
B24: 9 | H24: FALSE | J24: =_xlfn.IFNA(VLOOKUP(I24,Tabelle2!$F$2:$G$9,2,0),0) -> 0 | P24: =IF(N24="ja", J24*O24/14, IF(N24="nein",_xlfn.IFNA(VLOOKUP(B24,$B$48:$O$59,14,0),0),0)) -> 0
B25: 10 | H25: FALSE | J25: =_xlfn.IFNA(VLOOKUP(I25,Tabelle2!$F$2:$G$9,2,0),0) -> 0 | P25: =IF(N25="ja", J25*O25/14, IF(N25="nein",_xlfn.IFNA(VLOOKUP(B25,$B$48:$O$59,14,0),0),0)) -> 0
J26: SWS from courses | P26: =SUM(P16:P25)+SUM(Q16:Q25) -> 0
B27: SWS credit from theses (page 3) | O27: =P89 -> 0
B28: SWS credit from other sources (page 4) | O28: =P106 -> 0
C29: Result: | D29: =P30-D11 -> 0 | O29: SWS credit | P29: =O27+O28 -> 0
O30: Total SWS Semester | P30: =SUM(P26,P29) -> 0
C36: Date, signature of the teacher | J36: Checked by Dean's office
B41: University of Tübingen - Faculty of Economics and Social Sciences Fulfillment of Teaching Obligation | M41: Form 1 (Page 2) Reporting form for teaching staff
C43: Teaching person: | D43: =IF(ISBLANK($D$4),"Please fill in on page 1.",$D$4) -> Please fill in on page 1. | J43: School / Institute | M43: =IF(ISBLANK($M$4),"Please fill in on page 1.",$M$4) -> Please fill in on page 1.
B45: ="Additional information on non-weekly courses in " & $G$6 -> Additional information on non-weekly courses in WS 2026/27
B46: No. on page 1 | C46: Teaching dates and times | I46: own teaching hours (45 Min. each) | J46: divided by 14 | K46: For joint teaching | N46: crediting factor | O46: Own SWS
K47: No. of teachers | L47: Names of teachers | M47: interdisciplinary course?
C48: =IF(ISBLANK(B48),"",IF(VLOOKUP(B48,$B$16:$N$25,13,0)<>"nein","Error! Course marked as weekly or empty.",IF(ISBLANK(VLOOKUP(B48,$B$16:$N$25,2,0)),"Error! Course No. " & B48 & " not found on page 1.",VLOOKUP(B48,$B$16:$N$25,2,0)))) | J48: =I48/14 -> 0 | K48: =_xlfn.IFNA(VLOOKUP(B48,$B$16:$N$25,10,0),0) -> 0 | L48: =_xlfn.IFNA(VLOOKUP(B48,$B$16:$N$25,11,0),0) -> 0 | M48: =_xlfn.IFNA(VLOOKUP(B48,$B$16:$O$25,12,0),0) -> 0 | N48: =_xlfn.IFNA(VLOOKUP(B48,$B$16:$N$25,9,0),0) -> 0 | O48: =J48*N48 -> 0
C50: =IF(ISBLANK(B50),"",IF(VLOOKUP(B50,$B$16:$N$25,13,0)<>"nein","Fehler! Lehrveranstaltung als wöchentlich oder gar nicht markiert.",IF(ISBLANK(VLOOKUP(B50,$B$16:$N$25,2,0)),"Fehler! Keine Lehrveranstaltung mit Lfd. Nr. " & B50 & " auf Seite 1 gefunden.",VLOOKUP(B50,$B$16:$N$25,2,0)))) | J50: =I50/14 -> 0 | K50: =_xlfn.IFNA(VLOOKUP(B50,$B$16:$N$25,10,0),0) -> 0 | L50: =_xlfn.IFNA(VLOOKUP(B50,$B$16:$N$25,11,0),0) -> 0 | M50: =_xlfn.IFNA(VLOOKUP(B50,$B$16:$O$25,12,0),0) -> 0 | N50: =_xlfn.IFNA(VLOOKUP(B50,$B$16:$N$25,9,0),0) -> 0 | O50: =J50*N50 -> 0
C52: =IF(ISBLANK(B52),"",IF(VLOOKUP(B52,$B$16:$N$25,13,0)<>"nein","Fehler! Lehrveranstaltung als wöchentlich oder gar nicht markiert.",IF(ISBLANK(VLOOKUP(B52,$B$16:$N$25,2,0)),"Fehler! Keine Lehrveranstaltung mit Lfd. Nr. " & B52 & " auf Seite 1 gefunden.",VLOOKUP(B52,$B$16:$N$25,2,0)))) | J52: =I52/14 -> 0 | K52: =_xlfn.IFNA(VLOOKUP(B52,$B$16:$N$25,10,0),0) -> 0 | L52: =_xlfn.IFNA(VLOOKUP(B52,$B$16:$N$25,11,0),0) -> 0 | M52: =_xlfn.IFNA(VLOOKUP(B52,$B$16:$O$25,12,0),0) -> 0 | N52: =_xlfn.IFNA(VLOOKUP(B52,$B$16:$N$25,9,0),0) -> 0 | O52: =J52*N52 -> 0
C54: =IF(ISBLANK(B54),"",IF(VLOOKUP(B54,$B$16:$N$25,13,0)<>"nein","Fehler! Lehrveranstaltung als wöchentlich oder gar nicht markiert.",IF(ISBLANK(VLOOKUP(B54,$B$16:$N$25,2,0)),"Fehler! Keine Lehrveranstaltung mit Lfd. Nr. " & B54 & " auf Seite 1 gefunden.",VLOOKUP(B54,$B$16:$N$25,2,0)))) | J54: =I54/14 -> 0 | K54: =_xlfn.IFNA(VLOOKUP(B54,$B$16:$N$25,10,0),0) -> 0 | L54: =_xlfn.IFNA(VLOOKUP(B54,$B$16:$N$25,11,0),0) -> 0 | M54: =_xlfn.IFNA(VLOOKUP(B54,$B$16:$O$25,12,0),0) -> 0 | N54: =_xlfn.IFNA(VLOOKUP(B54,$B$16:$N$25,9,0),0) -> 0 | O54: =J54*N54 -> 0
C56: =IF(ISBLANK(B56),"",IF(VLOOKUP(B56,$B$16:$N$25,13,0)<>"nein","Fehler! Lehrveranstaltung als wöchentlich oder gar nicht markiert.",IF(ISBLANK(VLOOKUP(B56,$B$16:$N$25,2,0)),"Fehler! Keine Lehrveranstaltung mit Lfd. Nr. " & B56 & " auf Seite 1 gefunden.",VLOOKUP(B56,$B$16:$N$25,2,0)))) | J56: =I56/14 -> 0 | K56: =_xlfn.IFNA(VLOOKUP(B56,$B$16:$N$25,10,0),0) -> 0 | L56: =_xlfn.IFNA(VLOOKUP(B56,$B$16:$N$25,11,0),0) -> 0 | M56: =_xlfn.IFNA(VLOOKUP(B56,$B$16:$O$25,12,0),0) -> 0 | N56: =_xlfn.IFNA(VLOOKUP(B56,$B$16:$N$25,9,0),0) -> 0 | O56: =J56*N56 -> 0
C58: =IF(ISBLANK(B58),"",IF(VLOOKUP(B58,$B$16:$N$25,13,0)<>"nein","Fehler! Lehrveranstaltung als wöchentlich oder gar nicht markiert.",IF(ISBLANK(VLOOKUP(B58,$B$16:$N$25,2,0)),"Fehler! Keine Lehrveranstaltung mit Lfd. Nr. " & B58 & " auf Seite 1 gefunden.",VLOOKUP(B58,$B$16:$N$25,2,0)))) | J58: =I58/14 -> 0 | K58: =_xlfn.IFNA(VLOOKUP(B58,$B$16:$N$25,10,0),0) -> 0 | L58: =_xlfn.IFNA(VLOOKUP(B58,$B$16:$N$25,11,0),0) -> 0 | M58: =_xlfn.IFNA(VLOOKUP(B58,$B$16:$O$25,12,0),0) -> 0 | N58: =_xlfn.IFNA(VLOOKUP(B58,$B$16:$N$25,9,0),0) -> 0 | O58: =J58*N58 -> 0
B64: University of Tübingen - Faculty of Economics and Social Sciences Fulfillment of Teaching Obligation | M64: Form 1 (Page 3) Reporting form for teaching staff
C66: Teaching person: | D66: =IF(ISBLANK($D$4),"Please fill in on page 1.",$D$4) -> Please fill in on page 1. | J66: School / Institute | M66: =IF(ISBLANK($M$4),"Please fill in on page 1.",$M$4) -> Please fill in on page 1.
B68: ="Information on thesis supervision efforts in " & $G$6 -> Information on thesis supervision efforts in WS 2026/27
...

Sheet Tabelle2
G1: 0
A2: yes | B2: WS 2020/21 | C2: Empirische Bildungsforschung | D2: 1 | F2: Lecture | G2: 1
A3: no | B3: SS 2021 | C3: Empirische Kulturwissenschaft | D3: 2 | F3: Seminar | G3: 1
B4: WS 2021/22 | C4: Erziehungswissenschaft | D4: 3 | F4: Exercise | G4: 1
B5: SS 2022 | C5: Methodenzentrum | D5: 4 | F5: Colloquium | G5: 1
B6: WS 2022/23 | C6: Politikwissenschaft | D6: 5 | F6: sport. Ex. | G6: 0.75
B7: SS 2023 | C7: Sportwissenschaft | D7: 6 | F7: Practical course | G7: 0.5
B8: WS 2023/24 | C8: Soziologie | D8: 7 | F8: Tutorial | G8: 0.5
B9: SS 2024 | C9: Wirtschaftswissenschaft | D9: 8 | F9: Excursion | G9: 0.3
B10: WS 2024/25 | C10: Rechtsextremismusforschung | D10: 9
B11: SS 2025 | D11: 10
B12: WS 2025/26
B13: SS 2026
B14: WS 2026/27
B15: SS 2027
B16: WS 2027/28
B17: SS 2028
B18: WS 2028/29
B19: SS 2029
B20: WS 2029/30
B21: SS 2030
B22: WS 2030/31
B23: SS 2031
B24: WS 2031/32

Sheet Copyright
B2: Erstellt durch: | C2: Dekanat der Wirtschafts- und Sozialwissenschaftlichen Fakultät Eberhard-Karls-Universität Tübingen
B3: Lizenz: | C3: Public Domain CC0
B4: Kontakt: | C4: deputat@wiso.uni-tuebingen.de
